


BEGIN:VCALENDAR
VERSION:2.0
PRODID:-//Gloucester BID - Business Improvement District - ECPv6.15.17.1//NONSGML v1.0//EN
CALSCALE:GREGORIAN
METHOD:PUBLISH
X-ORIGINAL-URL:https://www.gloucesterbid.uk
X-WR-CALDESC:Events for Gloucester BID - Business Improvement District
REFRESH-INTERVAL;VALUE=DURATION:PT1H
X-Robots-Tag:noindex
X-PUBLISHED-TTL:PT1H
BEGIN:VTIMEZONE
TZID:Europe/London
BEGIN:DAYLIGHT
TZOFFSETFROM:+0000
TZOFFSETTO:+0100
TZNAME:BST
DTSTART:20140330T010000
END:DAYLIGHT
BEGIN:STANDARD
TZOFFSETFROM:+0100
TZOFFSETTO:+0000
TZNAME:GMT
DTSTART:20141026T010000
END:STANDARD
BEGIN:DAYLIGHT
TZOFFSETFROM:+0000
TZOFFSETTO:+0100
TZNAME:BST
DTSTART:20150329T010000
END:DAYLIGHT
BEGIN:STANDARD
TZOFFSETFROM:+0100
TZOFFSETTO:+0000
TZNAME:GMT
DTSTART:20151025T010000
END:STANDARD
BEGIN:DAYLIGHT
TZOFFSETFROM:+0000
TZOFFSETTO:+0100
TZNAME:BST
DTSTART:20160327T010000
END:DAYLIGHT
BEGIN:STANDARD
TZOFFSETFROM:+0100
TZOFFSETTO:+0000
TZNAME:GMT
DTSTART:20161030T010000
END:STANDARD
END:VTIMEZONE
BEGIN:VEVENT
DTSTART;TZID=Europe/London:20150107T183000
DTEND;TZID=Europe/London:20150107T213000
DTSTAMP:20260424T074306
CREATED:20150107T145940Z
LAST-MODIFIED:20150107T145940Z
UID:49075-1420655400-1420666200@www.gloucesterbid.uk
SUMMARY:Advanced Egyptian Dance Choreography
DESCRIPTION:A sensual elegant and feminine style of dance\, to bring out the best in each dancer. Mostly traditional group choreographies from the Middle East and Persia\, long with modern influences. \nAdvanced dancers only. Please enquire first with the teacher if you wish to join. \nWear a leotard or T-shirts for top; flowing skirts or leggings. Scarf or hip belt to put around your hips. Soft ballet shoes or bare feet – no hard shoes. \n  \n 
URL:https://www.gloucesterbid.uk/event/advanced-egyptian-dance-choreography/2015-01-07/
LOCATION:Gloucester Guildhall\, 23 Eastgate Street\, Glooucester\, GL1 1NS\, United Kingdom
CATEGORIES:Activities
GEO:51.8650491;-2.2449474
X-APPLE-STRUCTURED-LOCATION;VALUE=URI;X-ADDRESS=Gloucester Guildhall 23 Eastgate Street Glooucester GL1 1NS United Kingdom;X-APPLE-RADIUS=500;X-TITLE=23 Eastgate Street:geo:-2.2449474,51.8650491
END:VEVENT
END:VCALENDAR