


BEGIN:VCALENDAR
VERSION:2.0
PRODID:-//Gloucester BID - Business Improvement District - ECPv6.15.17.1//NONSGML v1.0//EN
CALSCALE:GREGORIAN
METHOD:PUBLISH
X-ORIGINAL-URL:https://www.gloucesterbid.uk
X-WR-CALDESC:Events for Gloucester BID - Business Improvement District
REFRESH-INTERVAL;VALUE=DURATION:PT1H
X-Robots-Tag:noindex
X-PUBLISHED-TTL:PT1H
BEGIN:VTIMEZONE
TZID:Europe/London
BEGIN:DAYLIGHT
TZOFFSETFROM:+0000
TZOFFSETTO:+0100
TZNAME:BST
DTSTART:20180325T010000
END:DAYLIGHT
BEGIN:STANDARD
TZOFFSETFROM:+0100
TZOFFSETTO:+0000
TZNAME:GMT
DTSTART:20181028T010000
END:STANDARD
BEGIN:DAYLIGHT
TZOFFSETFROM:+0000
TZOFFSETTO:+0100
TZNAME:BST
DTSTART:20190331T010000
END:DAYLIGHT
BEGIN:STANDARD
TZOFFSETFROM:+0100
TZOFFSETTO:+0000
TZNAME:GMT
DTSTART:20191027T010000
END:STANDARD
BEGIN:DAYLIGHT
TZOFFSETFROM:+0000
TZOFFSETTO:+0100
TZNAME:BST
DTSTART:20200329T010000
END:DAYLIGHT
BEGIN:STANDARD
TZOFFSETFROM:+0100
TZOFFSETTO:+0000
TZNAME:GMT
DTSTART:20201025T010000
END:STANDARD
END:VTIMEZONE
BEGIN:VEVENT
DTSTART;TZID=Europe/London:20191215T100000
DTEND;TZID=Europe/London:20191215T220000
DTSTAMP:20260424T061718
CREATED:20191105T130847Z
LAST-MODIFIED:20191105T130847Z
UID:160345-1576404000-1576447200@www.gloucesterbid.uk
SUMMARY:Music on the Bandstand
DESCRIPTION:Enjoy live\, festive music on the ornate bandstand during the Victorian markets and on the weekends leading up to Christmas. Expect carols and all your Christmas favourites as well as local musicians busking to add a sprinkling of the Christmas spirit to the city whilst you shop.
URL:https://www.gloucesterbid.uk/event/music-on-the-bandstand/2019-12-15/
LOCATION:Southgate Street\, Southgate Street\, Gloucester\, Gloucestershire\, GL1\, United Kingdom
CATEGORIES:Music
ATTACH;FMTTYPE=image/jpeg:https://www.gloucesterbid.uk/wp-content/uploads/74273665_2442627436005105_2944787422480695296_n.jpg
GEO:51.8621774;-2.2497589
X-APPLE-STRUCTURED-LOCATION;VALUE=URI;X-ADDRESS=Southgate Street Southgate Street Gloucester Gloucestershire GL1 United Kingdom;X-APPLE-RADIUS=500;X-TITLE=Southgate Street:geo:-2.2497589,51.8621774
END:VEVENT
END:VCALENDAR