


BEGIN:VCALENDAR
VERSION:2.0
PRODID:-//Gloucester BID - Business Improvement District - ECPv6.15.17.1//NONSGML v1.0//EN
CALSCALE:GREGORIAN
METHOD:PUBLISH
X-WR-CALNAME:Gloucester BID - Business Improvement District
X-ORIGINAL-URL:https://www.gloucesterbid.uk
X-WR-CALDESC:Events for Gloucester BID - Business Improvement District
REFRESH-INTERVAL;VALUE=DURATION:PT1H
X-Robots-Tag:noindex
X-PUBLISHED-TTL:PT1H
BEGIN:VTIMEZONE
TZID:Europe/London
BEGIN:DAYLIGHT
TZOFFSETFROM:+0000
TZOFFSETTO:+0100
TZNAME:BST
DTSTART:20120325T010000
END:DAYLIGHT
BEGIN:STANDARD
TZOFFSETFROM:+0100
TZOFFSETTO:+0000
TZNAME:GMT
DTSTART:20121028T010000
END:STANDARD
BEGIN:DAYLIGHT
TZOFFSETFROM:+0000
TZOFFSETTO:+0100
TZNAME:BST
DTSTART:20130331T010000
END:DAYLIGHT
BEGIN:STANDARD
TZOFFSETFROM:+0100
TZOFFSETTO:+0000
TZNAME:GMT
DTSTART:20131027T010000
END:STANDARD
BEGIN:DAYLIGHT
TZOFFSETFROM:+0000
TZOFFSETTO:+0100
TZNAME:BST
DTSTART:20140330T010000
END:DAYLIGHT
BEGIN:STANDARD
TZOFFSETFROM:+0100
TZOFFSETTO:+0000
TZNAME:GMT
DTSTART:20141026T010000
END:STANDARD
END:VTIMEZONE
BEGIN:VEVENT
DTSTART;TZID=Europe/London:20131213T100000
DTEND;TZID=Europe/London:20131213T190000
DTSTAMP:20260422T130021
CREATED:20131031T132700Z
LAST-MODIFIED:20131031T132700Z
UID:8250-1386928800-1386961200@www.gloucesterbid.uk
SUMMARY:Orchard Street Food & Craft Market
DESCRIPTION:Wrap up warm and get ready to feel all Christmassy at this wonderful festive market event at Gloucester Quays! With just ten days to go until the big day\, browse around 80 stalls selling distinctive\, high quality yuletide gifts and award-winning food and drink\, plus delicious hot food-to-go and warming mulled wine and cider. \nWander beneath twinkling lights and enjoy seasonal live music\, including brass bands and choirs\, plus fun and festive street entertainment and even real life reindeers\, taking a break before helping Santa on his big night. Lots of fun for all the family! \nCoach parties should book in advance and call Samantha Franklin on: 01452 338901 or email: sfranklin@gloucesterquays.co.uk
URL:https://www.gloucesterbid.uk/event/orchard-street-food-craft-market-3/2013-12-13/
LOCATION:Gloucester Docks\, Gloucester Quays\, Southgate Street\, Gloucester\, GL1 5SH\, United Kingdom
CATEGORIES:Craft,Market
GEO:51.8608342;-2.2525626
X-APPLE-STRUCTURED-LOCATION;VALUE=URI;X-ADDRESS=Gloucester Docks Gloucester Quays Southgate Street Gloucester GL1 5SH United Kingdom;X-APPLE-RADIUS=500;X-TITLE=Gloucester Quays\, Southgate Street:geo:-2.2525626,51.8608342
END:VEVENT
END:VCALENDAR