


BEGIN:VCALENDAR
VERSION:2.0
PRODID:-//Gloucester BID - Business Improvement District - ECPv6.15.17.1//NONSGML v1.0//EN
CALSCALE:GREGORIAN
METHOD:PUBLISH
X-WR-CALNAME:Gloucester BID - Business Improvement District
X-ORIGINAL-URL:https://www.gloucesterbid.uk
X-WR-CALDESC:Events for Gloucester BID - Business Improvement District
REFRESH-INTERVAL;VALUE=DURATION:PT1H
X-Robots-Tag:noindex
X-PUBLISHED-TTL:PT1H
BEGIN:VTIMEZONE
TZID:Europe/London
BEGIN:DAYLIGHT
TZOFFSETFROM:+0000
TZOFFSETTO:+0100
TZNAME:BST
DTSTART:20220327T010000
END:DAYLIGHT
BEGIN:STANDARD
TZOFFSETFROM:+0100
TZOFFSETTO:+0000
TZNAME:GMT
DTSTART:20221030T010000
END:STANDARD
BEGIN:DAYLIGHT
TZOFFSETFROM:+0000
TZOFFSETTO:+0100
TZNAME:BST
DTSTART:20230326T010000
END:DAYLIGHT
BEGIN:STANDARD
TZOFFSETFROM:+0100
TZOFFSETTO:+0000
TZNAME:GMT
DTSTART:20231029T010000
END:STANDARD
BEGIN:DAYLIGHT
TZOFFSETFROM:+0000
TZOFFSETTO:+0100
TZNAME:BST
DTSTART:20240331T010000
END:DAYLIGHT
BEGIN:STANDARD
TZOFFSETFROM:+0100
TZOFFSETTO:+0000
TZNAME:GMT
DTSTART:20241027T010000
END:STANDARD
BEGIN:DAYLIGHT
TZOFFSETFROM:+0000
TZOFFSETTO:+0100
TZNAME:BST
DTSTART:20250330T010000
END:DAYLIGHT
BEGIN:STANDARD
TZOFFSETFROM:+0100
TZOFFSETTO:+0000
TZNAME:GMT
DTSTART:20251026T010000
END:STANDARD
END:VTIMEZONE
BEGIN:VEVENT
DTSTART;TZID=Europe/London:20231124T113000
DTEND;TZID=Europe/London:20240107T200000
DTSTAMP:20260425T233820
CREATED:20231023T091700Z
LAST-MODIFIED:20231023T091700Z
UID:285554-1700825400-1704657600@www.gloucesterbid.uk
SUMMARY:Gloucester Quays Outdoor Ice Rink
DESCRIPTION:The Gloucester Quays Christmas Ice Rink is back from the 24th November until the 7th January! \n\n\nFor more details\, visit the Gloucester Quays Christmas Ice Rink Facebook page:\n https://www.facebook.com/GloucesterChristmasIceRink\n\n\nPre-book your tickets today:\n\n\n https://christmasicerinks.digitickets.co.uk/tickets
URL:https://www.gloucesterbid.uk/event/gloucester-quays-outdoor-ice-rink/
LOCATION:Gloucester Quays
CATEGORIES:Activities,Community,Entertainment,Events,Family
ATTACH;FMTTYPE=image/jpeg:https://www.gloucesterbid.uk/wp-content/uploads/GQ-Outdoor-Ice-Rink.jpg
END:VEVENT
BEGIN:VEVENT
DTSTART;TZID=Europe/London:20240126T183000
DTEND;TZID=Europe/London:20240128T230000
DTSTAMP:20260425T233820
CREATED:20240113T112600Z
LAST-MODIFIED:20240113T112600Z
UID:286400-1706293800-1706482800@www.gloucesterbid.uk
SUMMARY:Gloucester Cajun & Zydeco Festival 2024
DESCRIPTION:Europe’s longest running Cajun & Zydeco festival is back for its HUGE 30th birthday year. Featuring live performances from the finest Cajun & Zydeco bands from the UK\, Europe and beyond! \nBut that’s not all\, we will have special talks and performances in ‘Jim’s Lounge’ takeover of the cinema stage including a “Get Your Roots Out” live podcast recording and more roots music artists to enjoy alongside. \nThere will be dance workshops suitable for beginners to experts and special instrument workshops (charged separately) plus the Swamp Rock DJ’s keeping up the energy between bands\, all topped off by authentic Cajun & Creole cuisine. \nWith a mixture of live music and dancing all day\, the party atmosphere is contagious\, bringing the spirit of Louisiana to Gloucester.
URL:https://www.gloucesterbid.uk/event/gloucester-cajun-zydeco-festival-2024/
LOCATION:Gloucester Guildhall\, 23 Eastgate Street\, Glooucester\, GL1 1NS\, United Kingdom
CATEGORIES:Entertainment,Events,Music,Talks/Educational
ATTACH;FMTTYPE=image/jpeg:https://www.gloucesterbid.uk/wp-content/uploads/Gloucester-Cajun-Zydeco-Festival-2024_image.jpg
GEO:51.8650491;-2.2449474
X-APPLE-STRUCTURED-LOCATION;VALUE=URI;X-ADDRESS=Gloucester Guildhall 23 Eastgate Street Glooucester GL1 1NS United Kingdom;X-APPLE-RADIUS=500;X-TITLE=23 Eastgate Street:geo:-2.2449474,51.8650491
END:VEVENT
END:VCALENDAR