


BEGIN:VCALENDAR
VERSION:2.0
PRODID:-//Gloucester BID - Business Improvement District - ECPv6.15.17.1//NONSGML v1.0//EN
CALSCALE:GREGORIAN
METHOD:PUBLISH
X-ORIGINAL-URL:https://www.gloucesterbid.uk
X-WR-CALDESC:Events for Gloucester BID - Business Improvement District
REFRESH-INTERVAL;VALUE=DURATION:PT1H
X-Robots-Tag:noindex
X-PUBLISHED-TTL:PT1H
BEGIN:VTIMEZONE
TZID:Europe/London
BEGIN:DAYLIGHT
TZOFFSETFROM:+0000
TZOFFSETTO:+0100
TZNAME:BST
DTSTART:20220327T010000
END:DAYLIGHT
BEGIN:STANDARD
TZOFFSETFROM:+0100
TZOFFSETTO:+0000
TZNAME:GMT
DTSTART:20221030T010000
END:STANDARD
BEGIN:DAYLIGHT
TZOFFSETFROM:+0000
TZOFFSETTO:+0100
TZNAME:BST
DTSTART:20230326T010000
END:DAYLIGHT
BEGIN:STANDARD
TZOFFSETFROM:+0100
TZOFFSETTO:+0000
TZNAME:GMT
DTSTART:20231029T010000
END:STANDARD
BEGIN:DAYLIGHT
TZOFFSETFROM:+0000
TZOFFSETTO:+0100
TZNAME:BST
DTSTART:20240331T010000
END:DAYLIGHT
BEGIN:STANDARD
TZOFFSETFROM:+0100
TZOFFSETTO:+0000
TZNAME:GMT
DTSTART:20241027T010000
END:STANDARD
END:VTIMEZONE
BEGIN:VEVENT
DTSTART;TZID=Europe/London:20231021T100000
DTEND;TZID=Europe/London:20231103T200000
DTSTAMP:20260420T212827
CREATED:20231023T094129Z
LAST-MODIFIED:20231023T094129Z
UID:285558-1697882400-1699041600@www.gloucesterbid.uk
SUMMARY:Halloween Trail at Gloucester Quays
DESCRIPTION:Take part in our Halloween Trail – 21st October – 3rd November ????\n\nHave you seen Ralph the werewolf? ????\n\nStart your hunt with the Halloween trail book* located at the customer service desk.\n\nRalph and his friends are hiding around Gloucester Quays.\n\nFind them all and you will receive a bag of goodies and a chance to win a £50 GQ Gift Card & a Hotel Chocolat bundle*\n\nHappy hunting!\n\n*£1 Cash Donation to our chosen charity the Pied Piper Appeal.
URL:https://www.gloucesterbid.uk/event/halloween-trail-at-gloucester-quays/
LOCATION:Gloucester Quays
CATEGORIES:Activities,Community,Entertainment,Events,Family,Trail
ATTACH;FMTTYPE=image/jpeg:https://www.gloucesterbid.uk/wp-content/uploads/GQ-Halloween-Trail-scaled.jpg
END:VEVENT
BEGIN:VEVENT
DTSTART;TZID=Europe/London:20231027T100000
DTEND;TZID=Europe/London:20231104T210000
DTSTAMP:20260420T212827
CREATED:20231023T130925Z
LAST-MODIFIED:20231023T130925Z
UID:285579-1698400800-1699131600@www.gloucesterbid.uk
SUMMARY:Elements: 50th Anniversary of hip hop
DESCRIPTION:Gloucester Guildhall celebrates the 50th anniversary of hip hop this autumn with a takeover from associate artists Your Next Move and guest artists\, The Breaking League. \nHonouring the roots of hip hop\, Elements will celebrate all aspects of the genre from graffiti to breaking\, cinema to dj-ing. Expect an epic line up of jams\, battles workshops and masterclasses from internationally renowned dancers and artists.
URL:https://www.gloucesterbid.uk/event/elements-50th-anniversary-of-hip-hop/
CATEGORIES:Entertainment,Events,Music
ATTACH;FMTTYPE=image/png:https://www.gloucesterbid.uk/wp-content/uploads/Elements_50th-Anniversary-of-hip-hop.png
END:VEVENT
BEGIN:VEVENT
DTSTART;TZID=Europe/London:20231028T110000
DTEND;TZID=Europe/London:20231028T190000
DTSTAMP:20260420T212827
CREATED:20231024T094500Z
LAST-MODIFIED:20231024T094507Z
UID:285595-1698490800-1698519600@www.gloucesterbid.uk
SUMMARY:King's Feast
DESCRIPTION:Brand new pop-up street food event incoming! King’s Feast Gloucester hits King’s Square in the city centre.\n\nAmazing food trucks\, bars\, coffee and baked treats\, with DJs and relaxed vibes under a cool stretch tent. Free entry.\n\nFind out more on the Kings Feast Facebook page:\nhttps://www.facebook.com/kingsfeastglos
URL:https://www.gloucesterbid.uk/event/kings-feast/2023-10-28/
LOCATION:Kings Square\, Gloucester\, United Kingdom
CATEGORIES:Drink,Entertainment,Events,Food
ATTACH;FMTTYPE=image/jpeg:https://www.gloucesterbid.uk/wp-content/uploads/Kings-Feast-October-2023.jpg
GEO:51.8642449;-2.238156
END:VEVENT
BEGIN:VEVENT
DTSTART;TZID=Europe/London:20231028T120000
DTEND;TZID=Europe/London:20231028T160000
DTSTAMP:20260420T212827
CREATED:20231009T094311Z
LAST-MODIFIED:20231009T094311Z
UID:285453-1698494400-1698508800@www.gloucesterbid.uk
SUMMARY:Halloween 'Spooktacular' Event
DESCRIPTION:Come join us for our Halloween Event at Eastgate Market \n\n Face painting\n Treats and maybe tricks\n Wear your spooky costumes\n Halloween trail\n Photos with Jack Skellington and Sally\n Plus\, so much more!\n\nIt would be deadly to miss it!!
URL:https://www.gloucesterbid.uk/event/halloween-spooktacular-event/
LOCATION:Eastgate Market\, 1 The Forum\, Gloucester\, Gloucestershire\, GL1 1XN\, United Kingdom
CATEGORIES:Activities,Entertainment,Events,Family,Market
ATTACH;FMTTYPE=image/jpeg:https://www.gloucesterbid.uk/wp-content/uploads/Halloween-Spooktacular-Event-at-Eastgate-Market.jpg
ORGANIZER;CN="Planet All Stars":MAILTO:shop@planetallstars.co.uk
END:VEVENT
BEGIN:VEVENT
DTSTART;TZID=Europe/London:20231028T170000
DTEND;TZID=Europe/London:20231028T230000
DTSTAMP:20260420T212827
CREATED:20231023T135005Z
LAST-MODIFIED:20231025T131116Z
UID:285585-1698512400-1698534000@www.gloucesterbid.uk
SUMMARY:Halloween Ball
DESCRIPTION:A festival of all things spooky  \nThe Halloween Ball is a festival of all things spookaliscious with themed food and drink\, vintage cinema\, traditional sweet shop\, face painting\, glitter tattoos and seasonal games such as apple bobbing. \nThere will be a photo area and chill-out board gaming zone not to mention scare and character actors\, storytellers\, live music and a cheesy disco with the best costume competition! \nActivities are all included in the ticket price of £15\, group and concession prices are available\, under 12 yrs go free. \nThemed food and drinks can be purchased on the night\, Autumn Tea\, hot dogs and jacket potatoes\, sweet shop\, frothy coffee\, themed teas\, creepy cocktails and monstrous mocktails including a potion lab drinks for the kids. And of course\, snacks for film watching! \nJoin us from 5pm to 11pm at The Folk of Gloucester on the 28th of October 2023. \nThe Folk is an atmospheric ancient wooden framed building that is reportedly haunted!! What a perfect space to celebrate the season!
URL:https://www.gloucesterbid.uk/event/halloween-ball/
LOCATION:The Folk of Gloucester\, 99-103 Westgate Street\, Gloucester\, Gloucestershire\, GL1 2PG\, United Kingdom
CATEGORIES:Cinema,Entertainment,Events,Exhibition/Show,Family,Food,Music
ATTACH;FMTTYPE=image/jpeg:https://www.gloucesterbid.uk/wp-content/uploads/Halloween-Ball_poster-scaled.jpg
END:VEVENT
END:VCALENDAR