


BEGIN:VCALENDAR
VERSION:2.0
PRODID:-//Gloucester BID - Business Improvement District - ECPv6.15.17.1//NONSGML v1.0//EN
CALSCALE:GREGORIAN
METHOD:PUBLISH
X-ORIGINAL-URL:https://www.gloucesterbid.uk
X-WR-CALDESC:Events for Gloucester BID - Business Improvement District
REFRESH-INTERVAL;VALUE=DURATION:PT1H
X-Robots-Tag:noindex
X-PUBLISHED-TTL:PT1H
BEGIN:VTIMEZONE
TZID:Europe/London
BEGIN:DAYLIGHT
TZOFFSETFROM:+0000
TZOFFSETTO:+0100
TZNAME:BST
DTSTART:20220327T010000
END:DAYLIGHT
BEGIN:STANDARD
TZOFFSETFROM:+0100
TZOFFSETTO:+0000
TZNAME:GMT
DTSTART:20221030T010000
END:STANDARD
BEGIN:DAYLIGHT
TZOFFSETFROM:+0000
TZOFFSETTO:+0100
TZNAME:BST
DTSTART:20230326T010000
END:DAYLIGHT
BEGIN:STANDARD
TZOFFSETFROM:+0100
TZOFFSETTO:+0000
TZNAME:GMT
DTSTART:20231029T010000
END:STANDARD
BEGIN:DAYLIGHT
TZOFFSETFROM:+0000
TZOFFSETTO:+0100
TZNAME:BST
DTSTART:20240331T010000
END:DAYLIGHT
BEGIN:STANDARD
TZOFFSETFROM:+0100
TZOFFSETTO:+0000
TZNAME:GMT
DTSTART:20241027T010000
END:STANDARD
BEGIN:DAYLIGHT
TZOFFSETFROM:+0000
TZOFFSETTO:+0100
TZNAME:BST
DTSTART:20250330T010000
END:DAYLIGHT
BEGIN:STANDARD
TZOFFSETFROM:+0100
TZOFFSETTO:+0000
TZNAME:GMT
DTSTART:20251026T010000
END:STANDARD
BEGIN:DAYLIGHT
TZOFFSETFROM:+0000
TZOFFSETTO:+0100
TZNAME:BST
DTSTART:20260329T010000
END:DAYLIGHT
BEGIN:STANDARD
TZOFFSETFROM:+0100
TZOFFSETTO:+0000
TZNAME:GMT
DTSTART:20261025T010000
END:STANDARD
END:VTIMEZONE
BEGIN:VEVENT
DTSTART;TZID=Europe/London:20251208T200000
DTEND;TZID=Europe/London:20251208T223000
DTSTAMP:20260424T045151
CREATED:20240521T101739Z
LAST-MODIFIED:20240521T101739Z
UID:288598-1765224000-1765233000@www.gloucesterbid.uk
SUMMARY:Ghosts and Giggles Haunted Tours
DESCRIPTION:Held every Monday\, Wednesday and Saturday night at 8pm\, we go on a historical and paranormal tour of Gloucester. \nTaking in Westgate Street\, Southgate Street and Northgate Street\, we delve into the history and paranormal surrounding some of the historic buildings.
URL:https://www.gloucesterbid.uk/event/ghosts-and-giggles-haunted-tours/2025-12-08/
LOCATION:Various venues across Gloucester City
CATEGORIES:Events,Talks/Educational,Tour
ATTACH;FMTTYPE=image/jpeg:https://www.gloucesterbid.uk/wp-content/uploads/Ghosts-and-Giggles-Tours.jpg
END:VEVENT
BEGIN:VEVENT
DTSTART;TZID=Europe/London:20250714T080000
DTEND;TZID=Europe/London:20250726T170000
DTSTAMP:20260424T045151
CREATED:20250221T165312Z
LAST-MODIFIED:20250221T165315Z
UID:294833-1752480000-1753549200@www.gloucesterbid.uk
SUMMARY:Festival of Archaeology 2025
DESCRIPTION:The Festival of Archaeology Returns to Gloucester in July 2025\nThe much-anticipated Festival of Archaeology returns to Gloucester in July 2025\, promising an exciting programme of events celebrating the city’s rich and diverse history. Organised in partnership with a range of city centre venues and charities\, the festival will bring together Gloucester Cathedral\, Gloucester Civic Trust\, Museum of Gloucester\, Gloucestershire Archives\, Gloucester BID\, the Bristol and Gloucestershire Archaeological Society (BGAS)\, and GlosArch to create an immersive and engaging experience for visitors of all ages. \nAs one of the highlights of Gloucester’s cultural calendar\, the Festival of Archaeology will feature guided tours\, hands-on excavation experiences\, family-friendly workshops\, expert talks\, and special exhibitions that explore the city’s fascinating past\, from its Roman origins to its medieval grandeur and beyond. The event will showcase the invaluable work of local historians\, archaeologists\, and heritage organisations\, offering rare insights into Gloucester’s evolving landscape.
URL:https://www.gloucesterbid.uk/event/festival-of-archaeology-2025/
LOCATION:Gloucester City Centre\, Gloucester\, Gloucester\, Gloucestershire\, United Kingdom
CATEGORIES:Activities,Community,Entertainment,Exhibition/Show,Family,Tour,Trail
ATTACH;FMTTYPE=image/png:https://www.gloucesterbid.uk/wp-content/uploads/Archaeology-Festival-logo.png
GEO:51.8642449;-2.238156
X-APPLE-STRUCTURED-LOCATION;VALUE=URI;X-ADDRESS=Gloucester City Centre Gloucester Gloucester Gloucestershire United Kingdom;X-APPLE-RADIUS=500;X-TITLE=Gloucester:geo:-2.238156,51.8642449
END:VEVENT
BEGIN:VEVENT
DTSTART;TZID=Europe/London:20241021T080000
DTEND;TZID=Europe/London:20241027T220000
DTSTAMP:20260424T045151
CREATED:20241003T091134Z
LAST-MODIFIED:20241003T091138Z
UID:292970-1729497600-1730066400@www.gloucesterbid.uk
SUMMARY:Big Pub Push 2024
DESCRIPTION:Pubs are so much more than just\, well\, pubs! They are support for many\, a place to socialise\, meet\, have fun and enjoy. Many of the Gloucester pubs host various events through out the week\, from quizzes to brewing sessions. \nThis week showcases the various regular offerings that our pubs have on\, a few special offers and a true Gloucester tradition. If you know about the Assize of Ale\, you know\, if you don’t your’e in for a treat! \nWe have Gloucester Civic Trust offering two opportunities to go on The Story of Gloucester’s Pubs and Inns Guided Walk – book tickets here
URL:https://www.gloucesterbid.uk/event/big-pub-push-2024/
LOCATION:Various venues across Gloucester City
CATEGORIES:Activities,Business offers,Community,Tour,Trail
ATTACH;FMTTYPE=image/jpeg:https://www.gloucesterbid.uk/wp-content/uploads/front-page-BPP-24-scaled.jpg
END:VEVENT
BEGIN:VEVENT
DTSTART;TZID=Europe/London:20240928T140000
DTEND;TZID=Europe/London:20240928T150000
DTSTAMP:20260424T045151
CREATED:20240529T111905Z
LAST-MODIFIED:20240529T111905Z
UID:291303-1727532000-1727535600@www.gloucesterbid.uk
SUMMARY:Roman Soldier Tour of the Eastgate Chamber
DESCRIPTION:Join auxiliary Roman soldier Lucius for a fascinating visit underground to the Eastgate chamber to see how and why the original City walls were built and what happened to them through the centuries. \nDates/Times \nSaturday 1 June 2024 (2-3pm) \nSaturday 24 August 2024 (2-3pm) \nSaturday 28 September 2024 (2-3pm) \nPlaces \nMax places of 25 people per tour. \nPrices \nAdult: £7.50 \nChild: £5.00 \nFamily: £25.00 \nPlease Note \nTour last approx. 1 hour. \nPlease meet in the museum reception before the start of the tour. \nDue to the nature of the building\, multiple stairs\, and some small spaces\, this tour is unfortunately not suitable for disabled access. \nChildren under 16 must be accompanied by an adult.
URL:https://www.gloucesterbid.uk/event/roman-soldier-tour-of-the-eastgate-chamber-3/
LOCATION:Museum Of Gloucester\, Brunswick Road\, Gloucester\, GL1 1TH\, United Kingdom
CATEGORIES:Events,Talks/Educational,Tour
ATTACH;FMTTYPE=image/jpeg:https://www.gloucesterbid.uk/wp-content/uploads/Roman-Soldier-Tour-of-the-Eastgate-Chamber.jpg
GEO:51.8632439;-2.2444788
X-APPLE-STRUCTURED-LOCATION;VALUE=URI;X-ADDRESS=Museum Of Gloucester Brunswick Road Gloucester GL1 1TH United Kingdom;X-APPLE-RADIUS=500;X-TITLE=Brunswick Road:geo:-2.2444788,51.8632439
END:VEVENT
BEGIN:VEVENT
DTSTART;TZID=Europe/London:20240913T100000
DTEND;TZID=Europe/London:20240915T160000
DTSTAMP:20260424T045151
CREATED:20240722T131855Z
LAST-MODIFIED:20240722T134619Z
UID:292301-1726221600-1726416000@www.gloucesterbid.uk
SUMMARY:Gloucester Heritage Open Days 2024
DESCRIPTION:Save the date: 13th-15th September Gloucester Heritage Open Days!\n\n\n \n\n\nCelebrate our heritage and learn more about Gloucester.\n\n\n \n\n\nA huge thank you to all the volunteers who help make this happen.\n\n\n \n\n\nVenues to include:\n\n\n\nThe Folk of Gloucester\nGloucester Cathedral\nSt Mary de Crypt\nNational Waterways Museum\nSoldiers of Gloucestershire Museum
URL:https://www.gloucesterbid.uk/event/gloucester-heritage-open-days-2024/
CATEGORIES:Activities,Events,Talks/Educational,Tour
ATTACH;FMTTYPE=image/jpeg:https://www.gloucesterbid.uk/wp-content/uploads/Heritage-Open-Days-September-2024.jpg
END:VEVENT
BEGIN:VEVENT
DTSTART;TZID=Europe/London:20240824T140000
DTEND;TZID=Europe/London:20240824T150000
DTSTAMP:20260424T045151
CREATED:20240529T110614Z
LAST-MODIFIED:20240529T111403Z
UID:291290-1724508000-1724511600@www.gloucesterbid.uk
SUMMARY:Roman Soldier Tour of the Eastgate Chamber
DESCRIPTION:Join auxiliary Roman soldier Lucius for a fascinating visit underground to the Eastgate chamber to see how and why the original City walls were built and what happened to them through the centuries. \nDates/Times \nSaturday 1 June 2024 (2-3pm) \nSaturday 24 August 2024 (2-3pm) \nSaturday 28 September 2024 (2-3pm) \nPlaces \nMax places of 25 people per tour. \nPrices \nAdult: £7.50 \nChild: £5.00 \nFamily: £25.00 \nPlease note \nTour last approx. 1 hour. \nPlease meet in the museum reception before the start of the tour. \nDue to the nature of the building\, multiple stairs\, and some small spaces\, this tour is unfortunately not suitable for disabled access. \nChildren under 16 must be accompanied by an adult.
URL:https://www.gloucesterbid.uk/event/roman-soldier-tour-of-the-eastgate-chamber-2/
LOCATION:Museum Of Gloucester\, Brunswick Road\, Gloucester\, GL1 1TH\, United Kingdom
CATEGORIES:Events,Talks/Educational,Tour
ATTACH;FMTTYPE=image/jpeg:https://www.gloucesterbid.uk/wp-content/uploads/Roman-Soldier-Tour-of-the-Eastgate-Chamber.jpg
GEO:51.8632439;-2.2444788
X-APPLE-STRUCTURED-LOCATION;VALUE=URI;X-ADDRESS=Museum Of Gloucester Brunswick Road Gloucester GL1 1TH United Kingdom;X-APPLE-RADIUS=500;X-TITLE=Brunswick Road:geo:-2.2444788,51.8632439
END:VEVENT
BEGIN:VEVENT
DTSTART;TZID=Europe/London:20240803T140000
DTEND;TZID=Europe/London:20240803T150000
DTSTAMP:20260424T045151
CREATED:20240522T095416Z
LAST-MODIFIED:20240522T095416Z
UID:288650-1722693600-1722697200@www.gloucesterbid.uk
SUMMARY:Behind the Scenes Tour
DESCRIPTION:Ever pondered what goes on behind the scenes of a museum? Satiate your curiosity with our exclusive Behind the Scenes tour! Dive deep into the inner workings of our vibrant institution for an hour-long journey filled with intrigue and discovery. \nJoin us for an insightful and unique tour of the museum galleries and storage areas seldom seen at the Museum of Gloucester with the Collections Team. Your friendly and knowledgeable guide will show you many highlights in the collections including dinosaur fossils\, a sword belonging to King Richard III and forgotten Roman remains…
URL:https://www.gloucesterbid.uk/event/behind-the-scenes-tour/2024-08-03/
LOCATION:Museum Of Gloucester\, Brunswick Road\, Gloucester\, GL1 1TH\, United Kingdom
CATEGORIES:Events,Talks/Educational,Tour
ATTACH;FMTTYPE=image/jpeg:https://www.gloucesterbid.uk/wp-content/uploads/Behind-the-Scenes-Tour.jpg
GEO:51.8632439;-2.2444788
X-APPLE-STRUCTURED-LOCATION;VALUE=URI;X-ADDRESS=Museum Of Gloucester Brunswick Road Gloucester GL1 1TH United Kingdom;X-APPLE-RADIUS=500;X-TITLE=Brunswick Road:geo:-2.2444788,51.8632439
END:VEVENT
BEGIN:VEVENT
DTSTART;TZID=Europe/London:20240715T090000
DTEND;TZID=Europe/London:20240727T170000
DTSTAMP:20260424T045151
CREATED:20240705T100910Z
LAST-MODIFIED:20240705T100910Z
UID:292079-1721034000-1722099600@www.gloucesterbid.uk
SUMMARY:Gloucester Festival of Archaeology 2024
DESCRIPTION:Gloucester Civic Trust organises Gloucester Festival of Archaeology in partnership with Gloucester Cathedral and  several organisations and Heritage venues in Gloucester. Working together we bring a host of activities designed to appeal to residents and visitors alike by encouraging everyone to look up and down and explore the city for the day through a range of fun and low-cost activities. \nThis year our theme is Gloucester under the surface. Through a series of talks in amazing venues like the Guildhall\, Gloucester Cathedral and The Folk of Gloucester we will be shining a light on the amazing archaeology that has been undertaken in the city and exploring what it means for the understanding of the past. \nThere will be lots of talks\, tours\, trails and activities for all. \nFind out more here.
URL:https://www.gloucesterbid.uk/event/gloucester-festival-of-archaeology-2024/
LOCATION:Various venues across Gloucester City
CATEGORIES:Activities,Events,Exhibition/Show,Family,Talks/Educational,Tour,Trail
ATTACH;FMTTYPE=image/png:https://www.gloucesterbid.uk/wp-content/uploads/Gloucester-Festival-of-Archaeology-2024.png
END:VEVENT
BEGIN:VEVENT
DTSTART;TZID=Europe/London:20240628T110000
DTEND;TZID=Europe/London:20240628T123000
DTSTAMP:20260424T045151
CREATED:20240522T093538Z
LAST-MODIFIED:20240522T093538Z
UID:288633-1719572400-1719577800@www.gloucesterbid.uk
SUMMARY:Character Tours: Tudor listed building
DESCRIPTION:Meet our costumed tour guides who represent actual people such as Bishop Hooper\, who burned at the stake\, and other characters connected to the buildings. \nA listed historic building\, the Folk offers you fascinating stories and gory tales while giving you a feel for how life was lived here since Tudor times. \nSign up now to experience an authentic taste of history. \nMore information at http://www.gloucestercivictrust.org/ \nWalk-ins welcome. Pay at café. \nTicket prices: \nAdult – £10 \nChild – £4
URL:https://www.gloucesterbid.uk/event/character-tours-tudor-listed-building/2024-06-28/
LOCATION:The Folk of Gloucester\, 99-103 Westgate Street\, Gloucester\, Gloucestershire\, GL1 2PG\, United Kingdom
CATEGORIES:Events,Talks/Educational,Tour
ATTACH;FMTTYPE=image/jpeg:https://www.gloucesterbid.uk/wp-content/uploads/Character-Tours.jpg
END:VEVENT
BEGIN:VEVENT
DTSTART;TZID=Europe/London:20240601T140000
DTEND;TZID=Europe/London:20240601T150000
DTSTAMP:20260424T045151
CREATED:20240528T102946Z
LAST-MODIFIED:20240528T102946Z
UID:291287-1717250400-1717254000@www.gloucesterbid.uk
SUMMARY:Roman Soldier Tour of the Eastgate Chamber
DESCRIPTION:Join auxiliary Roman soldier Lucius for a fascinating visit underground to the Eastgate chamber to see how and why the original City walls were built and what happened to them through the centuries. \nDates/Times \nSaturday 1 June 2024 (2-3pm) \nSaturday 24 August 2024 (2-3pm) \nSaturday 28 September 2024 (2-3pm) \nPlaces \nMax places of 25 people per tour. \nPrices \nAdult: £7.50 \nChild: £5.00 \nFamily: £25.00 \nPlease Note \nTour last approx. 1 hour. \nPlease meet in the museum reception before the start of the tour. \nDue to the nature of the building\, multiple stairs\, and some small spaces\, this tour is unfortunately not suitable for disabled access. \nChildren under 16 must be accompanied by an adult.
URL:https://www.gloucesterbid.uk/event/roman-soldier-tour-of-the-eastgate-chamber/
LOCATION:Museum Of Gloucester\, Brunswick Road\, Gloucester\, GL1 1TH\, United Kingdom
CATEGORIES:Events,Family,Talks/Educational,Tour
ATTACH;FMTTYPE=image/jpeg:https://www.gloucesterbid.uk/wp-content/uploads/Roman-Soldier-Tour-of-the-Eastgate-Chamber.jpg
GEO:51.8632439;-2.2444788
X-APPLE-STRUCTURED-LOCATION;VALUE=URI;X-ADDRESS=Museum Of Gloucester Brunswick Road Gloucester GL1 1TH United Kingdom;X-APPLE-RADIUS=500;X-TITLE=Brunswick Road:geo:-2.2444788,51.8632439
END:VEVENT
BEGIN:VEVENT
DTSTART;TZID=Europe/London:20240525T110000
DTEND;TZID=Europe/London:20240525T150000
DTSTAMP:20260424T045151
CREATED:20240521T094332Z
LAST-MODIFIED:20240521T094332Z
UID:288210-1716634800-1716649200@www.gloucesterbid.uk
SUMMARY:Spring Bank Holiday Open Weekend
DESCRIPTION:Step inside our listed buildings and find out more about the events and people that shaped Llanthony’s history\, including an Archbishop of Canterbury\, and King Henry VII. \nThis is also during the Tall Ships Festival in Gloucester so there will be lots to enjoy and visit!
URL:https://www.gloucesterbid.uk/event/spring-bank-holiday-open-weekend/2024-05-25/
LOCATION:Llanthony Secunda Priory\, llanthony secunda priory\, Gloucester\, Gloucestershire\, GL2 5QT\, United Kingdom
CATEGORIES:Activities,Events,Family,Talks/Educational,Tour
ATTACH;FMTTYPE=image/jpeg:https://www.gloucesterbid.uk/wp-content/uploads/Llanthony-Secunda-Priory-1.jpg
GEO:51.8600804;-2.2571801
X-APPLE-STRUCTURED-LOCATION;VALUE=URI;X-ADDRESS=Llanthony Secunda Priory llanthony secunda priory Gloucester Gloucestershire GL2 5QT United Kingdom;X-APPLE-RADIUS=500;X-TITLE=llanthony secunda priory:geo:-2.2571801,51.8600804
END:VEVENT
BEGIN:VEVENT
DTSTART;TZID=Europe/London:20231021T110000
DTEND;TZID=Europe/London:20231029T230000
DTSTAMP:20260424T045151
CREATED:20231005T175406Z
LAST-MODIFIED:20231005T175406Z
UID:285426-1697886000-1698620400@www.gloucesterbid.uk
SUMMARY:BIG PUB PUSH
DESCRIPTION:Pubs are so much more than just\, well\, pubs! They are support for many\, a place to socialise\, meet\, have fun and enjoy. \nMany of the Gloucester pubs will host various events through out the week\, from quizzes to brewing sessions. \nCelebrating pubs between 21st-29th October 2023. \nTo celebrate this week we have partnered with Gloucester Civic Trust to bring you the opportunity to learn more about the history of pubs and inns in Gloucester. The highly popular guided walk ‘The Story of Gloucester’s Pubs and Inns’ will be running three times over this week. Tickets are only £7\, guided walk lasts about 75 mins and full of super information. \nSunday 22nd October 12:00 Tuesday 24th October 2.00pm & Saturday 28th October 11am.
URL:https://www.gloucesterbid.uk/event/big-pub-push/
LOCATION:Various venues across Gloucester City
CATEGORIES:Community,Drink,Events,Talks/Educational,Tour
ATTACH;FMTTYPE=image/png:https://www.gloucesterbid.uk/wp-content/uploads/BPP-Front-Cover-1.png
END:VEVENT
BEGIN:VEVENT
DTSTART;TZID=Europe/London:20231012T120000
DTEND;TZID=Europe/London:20231015T233000
DTSTAMP:20260424T045151
CREATED:20231009T103003Z
LAST-MODIFIED:20231009T104204Z
UID:285458-1697112000-1697412600@www.gloucesterbid.uk
SUMMARY:Gloucester Poetry Festival 2023
DESCRIPTION:Starting at the Tigers Eye Restaurant and onto The Folk of Gloucester and back again\, we have poets\, music and activities for all with an interest in poetry. \nJoin us to celebrate this October!
URL:https://www.gloucesterbid.uk/event/gloucester-poetry-festival-2023/
LOCATION:Various venues across Gloucester City
CATEGORIES:Events,Exhibition/Show,Talks/Educational,Tour
ATTACH;FMTTYPE=image/jpeg:https://www.gloucesterbid.uk/wp-content/uploads/Gloucester-Poetry-Festival-2023-scaled.jpg
ORGANIZER;CN="Gloucester Poetry Festival":MAILTO:TheDirector@gloucesterpoetryfestival.uk
END:VEVENT
BEGIN:VEVENT
DTSTART;TZID=Europe/London:20231005T110000
DTEND;TZID=Europe/London:20231005T123000
DTSTAMP:20260424T045151
CREATED:20231003T154121Z
LAST-MODIFIED:20231003T154219Z
UID:285368-1696503600-1696509000@www.gloucesterbid.uk
SUMMARY:Behind the Scenes Tours of the Folk of Gloucester
DESCRIPTION:A “Behind the Scenes” Tour of three Tudor houses “If only Walls could Talk”. \nTake a trip back in time guided by the colourful characters who lived and worked in this row of Tudor houses. Immerse yourself in fascinating facts and gory stories while you explore the many rooms with a serving maid\, or an undertaker\, a Puritan Mayor or other larger than life characters from the past 600 years. The Tour Guides will be dressed in costume\, representing a real person connected to the building. \nBe one of the first to explore these houses which were closed for several years! Walk on the squeaky floorboards and smell the history!\nGloucester Civic Trust have taken over this amazing and unique row of three Tudor houses from the City Council and want to bring life back into the buildings and keep them safe for future generations. \nYou will also hear about our plans as this will no longer be a museum but an exhibition and events space and a centre for the local community. \nPlease note that the Tour takes about 90 minutes. There are many steps and staircases so this tour is not suitable for people with limited mobility. \nThe Café will be open so please come a bit early and support our efforts to keep these beautiful buildings open by buying a cup of tea or coffee before the Tour as the Introduction to the Tour usually starts here.
URL:https://www.gloucesterbid.uk/event/behind-the-scenes-tours-of-the-folk-of-gloucester/2023-10-05/
LOCATION:The Folk of Gloucester\, 99-103 Westgate Street\, Gloucester\, Gloucestershire\, GL1 2PG\, United Kingdom
CATEGORIES:Entertainment,Events,Talks/Educational,Tour
ATTACH;FMTTYPE=image/jpeg:https://www.gloucesterbid.uk/wp-content/uploads/Behind-the-Scenes-Tours-of-the-Folk-of-Gloucester.jpg
END:VEVENT
BEGIN:VEVENT
DTSTART;TZID=Europe/London:20230909T110000
DTEND;TZID=Europe/London:20230909T170000
DTSTAMP:20260424T045151
CREATED:20230908T111928Z
LAST-MODIFIED:20230908T111928Z
UID:285029-1694257200-1694278800@www.gloucesterbid.uk
SUMMARY:The Tour of Britain
DESCRIPTION:Stage Seven of the The Tour of Britain will be cycling throughout Gloucestershire on Saturday 9th September and will be finishing at Gloucester Docks! \nThere will be a number of road closures. \nFor more information – https://www.tourofbritain.co.uk/stages/stage-seven/ \n  \n 
URL:https://www.gloucesterbid.uk/event/the-tour-of-britain/
LOCATION:Gloucester Docks\, Gloucester Quays\, Southgate Street\, Gloucester\, GL1 5SH\, United Kingdom
CATEGORIES:Events,Family,Tour
ATTACH;FMTTYPE=image/jpeg:https://www.gloucesterbid.uk/wp-content/uploads/Tour-of-Britain.jpg
GEO:51.8608342;-2.2525626
X-APPLE-STRUCTURED-LOCATION;VALUE=URI;X-ADDRESS=Gloucester Docks Gloucester Quays Southgate Street Gloucester GL1 5SH United Kingdom;X-APPLE-RADIUS=500;X-TITLE=Gloucester Quays\, Southgate Street:geo:-2.2525626,51.8608342
END:VEVENT
BEGIN:VEVENT
DTSTART;TZID=Europe/London:20230908T080000
DTEND;TZID=Europe/London:20230910T170000
DTSTAMP:20260424T045151
CREATED:20230816T092305Z
LAST-MODIFIED:20230816T092305Z
UID:284901-1694160000-1694365200@www.gloucesterbid.uk
SUMMARY:Gloucester Heritage Open Days 2023
DESCRIPTION:Over 90 events including guided walks\, talks\, tours of venues not normally open to the public\, music\, exhibitions and craft demonstrations. Most of these do not require booking but talks and some venues will require booking.\n\nFind out what events are taking place in Gloucester and book your tickets if needed here – https://www.tickettailor.com/events/gloucestercivictrustlimited
URL:https://www.gloucesterbid.uk/event/gloucester-heritage-open-days-2023/
LOCATION:Various venues across Gloucester City
CATEGORIES:Community,Events,Exhibition/Show,Family,Talks/Educational,Tour
ATTACH;FMTTYPE=image/jpeg:https://www.gloucesterbid.uk/wp-content/uploads/Gloucester-Heritage-Open-Days-2023.jpg
END:VEVENT
BEGIN:VEVENT
DTSTART;TZID=Europe/London:20230701T153000
DTEND;TZID=Europe/London:20230701T180000
DTSTAMP:20260424T045151
CREATED:20230531T232641Z
LAST-MODIFIED:20230619T154840Z
UID:283690-1688225400-1688234400@www.gloucesterbid.uk
SUMMARY:Hi! Street Fest Gloucester
DESCRIPTION:This summer\, a curious fox called Farrah embarks on a journey across the country to explore high streets\, their history\, heritage and the people that gather on them. Farrah is coming to Gloucester to meet and receive gifts from a very special host created by our community! \nCome along and experience the joy! \nHi! Street Fest is a programme of magical street events\, celebrating what’s special about our high streets. In partnership with Historic England\, Emergency Exit Arts (EEA) have been working with residents of six towns and cities to develop and curate a magical street event bringing everyone together to welcome a curious fox named Farrah to their place and celebrate what’s special about it. These events act as a wonderful finale celebration for Historic England’s High Streets. \nFurther details of the Hi! Street Fest Gloucester to follow.
URL:https://www.gloucesterbid.uk/event/hi-street-fest-gloucester/
LOCATION:Kings Square\, Gloucester\, United Kingdom
CATEGORIES:Community,Entertainment,Events,Tour
ATTACH;FMTTYPE=image/png:https://www.gloucesterbid.uk/wp-content/uploads/Gloucester-BID-Newsletter-images-9.png
GEO:51.8642449;-2.238156
END:VEVENT
BEGIN:VEVENT
DTSTART;TZID=Europe/London:20230318T100000
DTEND;TZID=Europe/London:20230326T170000
DTSTAMP:20260424T045151
CREATED:20230307T172906Z
LAST-MODIFIED:20230307T172906Z
UID:283058-1679133600-1679850000@www.gloucesterbid.uk
SUMMARY:National Lottery Open Week
DESCRIPTION:Every week National Lottery players raise more than £30 million which goes towards funding good causes across the UK. \nEach time you play The National Lottery you help make the UK a better place\, and we want to say thank you! \nSince 1994\, more than £47 billion has been raised for good causes. Due to this support\, good cause projects in the arts\, community\, film heritage and sport are able to make a huge difference in their local communities. \nFor making their work possible\, National Lottery funded projects across the UK want to say #ThanksToYou to the National Lottery players by offering free entry or other special offers this National Lottery Open Week! \nBetween 18-26 March 2023\, anyone who presents a National Lottery ticket or scratchcard (digital or physical) will be able to access these special offers.
URL:https://www.gloucesterbid.uk/event/national-lottery-open-week/
LOCATION:The Folk of Gloucester\, 99-103 Westgate Street\, Gloucester\, Gloucestershire\, GL1 2PG\, United Kingdom
CATEGORIES:Talks/Educational,Tour
ATTACH;FMTTYPE=image/jpeg:https://www.gloucesterbid.uk/wp-content/uploads/NLOW-The-Folk.jpg
END:VEVENT
BEGIN:VEVENT
DTSTART;TZID=Europe/London:20230302T110000
DTEND;TZID=Europe/London:20230302T123000
DTSTAMP:20260424T045151
CREATED:20230228T122739Z
LAST-MODIFIED:20230228T122937Z
UID:282981-1677754800-1677760200@www.gloucesterbid.uk
SUMMARY:Tours of the Folk of Gloucester - "If Only Walls Could Talk!"
DESCRIPTION:Be one of the first to explore this building which was closed for several years!  Walk on the squeaky floorboards and smell the history! \nGloucester Civic Trust have taken over this amazing and unique row of three Tudor houses from the City Council and want to bring life back into the buildings and keep them safe for future generations. \nGuided tours are now available and tell the stories of the buildings themselves and the people who owned them or worked or lived in them during the last 600 years.  The tour guides will be dressed in costume\, representing a real person connected to the building. \nFind out why someone was hiding in the loft of the coal house\, or who received special dispensation from the Privy Council in the sixteenth century.  Hear the story about Bishop Hooper and the room he is reputed to have stayed in the night before he was burnt at the stake in 1555. \nWho owned and lived in these buildings during the Civil War and the Seige of Gloucester in 1643?  Who set up the largest pin making factory in Gloucester here in the 18th Century and exhibited their state-of-the-art machinery in the Great Exhibition in 19th Century?  Who was the very last baby to be born here in 20th Century?\nAnd –\nWhere was the witch’s bottle found? \nAll these questions will be answered during the tour. \nYou will also hear about our plans for the future of the buildings which will no longer be a museum but an exhibition and events space and a centre for the local community. \nNotes\nPlease note that the Tour takes about 90 minutes and costs £7 for adults\, £3 for children under16 (who must be accompanied by and adult).  There is a limit of 10 people on each tour.  Book now to avoid disappointment. \nAccess to the first and second floors is via staircases.  There is no lift access.  This means the tour is unsuitable for pushchairs\, users of wheelchairs and those with limited mobility. \nThe Café will be open so please come a bit early and support our efforts to keep these beautiful buildings open by buying a cup of tea or coffee before the Tour as the Introduction to the Tour usually starts here.The Folk of Gloucester is managed by Gloucester Civic Trust Limited\nRegistered in England | Company No.01078805 | Charity No.264719\nRegistered Office: Bishop Hooper House\, 99-103 Westgate Street\, Gloucester\, GL1 2PG
URL:https://www.gloucesterbid.uk/event/282981/2023-03-02/
LOCATION:The Folk of Gloucester\, 99-103 Westgate Street\, Gloucester\, Gloucestershire\, GL1 2PG\, United Kingdom
CATEGORIES:Tour
ATTACH;FMTTYPE=image/jpeg:https://www.gloucesterbid.uk/wp-content/uploads/Square-NLHF-logo.jpg
END:VEVENT
END:VCALENDAR