


BEGIN:VCALENDAR
VERSION:2.0
PRODID:-//Gloucester BID - Business Improvement District - ECPv6.15.17.1//NONSGML v1.0//EN
CALSCALE:GREGORIAN
METHOD:PUBLISH
X-ORIGINAL-URL:https://www.gloucesterbid.uk
X-WR-CALDESC:Events for Gloucester BID - Business Improvement District
REFRESH-INTERVAL;VALUE=DURATION:PT1H
X-Robots-Tag:noindex
X-PUBLISHED-TTL:PT1H
BEGIN:VTIMEZONE
TZID:Europe/London
BEGIN:DAYLIGHT
TZOFFSETFROM:+0000
TZOFFSETTO:+0100
TZNAME:BST
DTSTART:20170326T010000
END:DAYLIGHT
BEGIN:STANDARD
TZOFFSETFROM:+0100
TZOFFSETTO:+0000
TZNAME:GMT
DTSTART:20171029T010000
END:STANDARD
BEGIN:DAYLIGHT
TZOFFSETFROM:+0000
TZOFFSETTO:+0100
TZNAME:BST
DTSTART:20180325T010000
END:DAYLIGHT
BEGIN:STANDARD
TZOFFSETFROM:+0100
TZOFFSETTO:+0000
TZNAME:GMT
DTSTART:20181028T010000
END:STANDARD
BEGIN:DAYLIGHT
TZOFFSETFROM:+0000
TZOFFSETTO:+0100
TZNAME:BST
DTSTART:20190331T010000
END:DAYLIGHT
BEGIN:STANDARD
TZOFFSETFROM:+0100
TZOFFSETTO:+0000
TZNAME:GMT
DTSTART:20191027T010000
END:STANDARD
BEGIN:DAYLIGHT
TZOFFSETFROM:+0000
TZOFFSETTO:+0100
TZNAME:BST
DTSTART:20200329T010000
END:DAYLIGHT
BEGIN:STANDARD
TZOFFSETFROM:+0100
TZOFFSETTO:+0000
TZNAME:GMT
DTSTART:20201025T010000
END:STANDARD
BEGIN:DAYLIGHT
TZOFFSETFROM:+0000
TZOFFSETTO:+0100
TZNAME:BST
DTSTART:20210328T010000
END:DAYLIGHT
BEGIN:STANDARD
TZOFFSETFROM:+0100
TZOFFSETTO:+0000
TZNAME:GMT
DTSTART:20211031T010000
END:STANDARD
BEGIN:DAYLIGHT
TZOFFSETFROM:+0000
TZOFFSETTO:+0100
TZNAME:BST
DTSTART:20220327T010000
END:DAYLIGHT
BEGIN:STANDARD
TZOFFSETFROM:+0100
TZOFFSETTO:+0000
TZNAME:GMT
DTSTART:20221030T010000
END:STANDARD
BEGIN:DAYLIGHT
TZOFFSETFROM:+0000
TZOFFSETTO:+0100
TZNAME:BST
DTSTART:20230326T010000
END:DAYLIGHT
BEGIN:STANDARD
TZOFFSETFROM:+0100
TZOFFSETTO:+0000
TZNAME:GMT
DTSTART:20231029T010000
END:STANDARD
BEGIN:DAYLIGHT
TZOFFSETFROM:+0000
TZOFFSETTO:+0100
TZNAME:BST
DTSTART:20240331T010000
END:DAYLIGHT
BEGIN:STANDARD
TZOFFSETFROM:+0100
TZOFFSETTO:+0000
TZNAME:GMT
DTSTART:20241027T010000
END:STANDARD
END:VTIMEZONE
BEGIN:VEVENT
DTSTART;TZID=Europe/London:20230720T160000
DTEND;TZID=Europe/London:20230720T180000
DTSTAMP:20260421T223110
CREATED:20230704T105329Z
LAST-MODIFIED:20230704T111932Z
UID:284430-1689868800-1689876000@www.gloucesterbid.uk
SUMMARY:Summer Social - Business Networking
DESCRIPTION:Come and enjoy an informal ‘Summer Social’ with fellow businesses and business owners. \nSee the Lego Castle Keep and meet partners across the city. \nPlaces are limited\, so reserve your spot here – https://www.eventbrite.co.uk/e/summer-social-tickets-662451619627
URL:https://www.gloucesterbid.uk/event/summer-social-business-networking/
CATEGORIES:Events,Exhibition/Show,Networking
ATTACH;FMTTYPE=image/png:https://www.gloucesterbid.uk/wp-content/uploads/BID-Summer-Social-Instagram-Post-1.png
END:VEVENT
BEGIN:VEVENT
DTSTART;TZID=Europe/London:20190222T170000
DTEND;TZID=Europe/London:20190224T210000
DTSTAMP:20260421T223110
CREATED:20190130T112949Z
LAST-MODIFIED:20190130T112949Z
UID:159236-1550854800-1551042000@www.gloucesterbid.uk
SUMMARY:Gloucester Folk Trail 2019
DESCRIPTION:Folk musicians from around the county will congregate in Gloucester for the second Gloucester Folk Trail. Venues across the city host traditional and contemporary folk acts for a weekend of free live performances. This event will also include poetry\, talks\, and traditional craft. \nThe Gloucester Folk Trail funded by the Gloucester Business Improvement District (BID) and supported by Marketing Gloucester.
URL:https://www.gloucesterbid.uk/event/gloucester-folk-trail-2019/
CATEGORIES:Activities,Entertainment,Music
ATTACH;FMTTYPE=image/png:https://www.gloucesterbid.uk/wp-content/uploads/Folk-Festival-First-Line-Up-Landscape_pn-webp-770×545-.png
END:VEVENT
BEGIN:VEVENT
DTSTART;TZID=Europe/London:20181208T093000
DTEND;TZID=Europe/London:20181208T120000
DTSTAMP:20260421T223110
CREATED:20181024T102506Z
LAST-MODIFIED:20181024T102506Z
UID:158884-1544261400-1544270400@www.gloucesterbid.uk
SUMMARY:Gloucester Santa Fun Run 2018
DESCRIPTION:Join us for the Gloucester Santa Fun Run on Saturday 8th December at 09:30am in Gloucester Park. \nPlease do not register after 9:00pm on Friday 7th December – come along and register at the Park – we look forward to seeing you at the Rotary Marquee at 09:30. If you could bring the correct cash that would be super! \nOrganised by the Rotary Club of Gloucester with support and sponsorship from Gloucester BID\, Marketing Gloucester and Cass-Stephens Insurances Ltd. We hope that all ages\, all abilities and all sections of our wonderful City will join with us to celebrate our Community by putting on a Red Hat (or\, if possible\, a full Santa Outfit) and running\, walking or being pushed round a short route in the Park. Registration begins in the park from 09:30 and the run starts at 10:15. \nRegistration fees: \n– Under 16’s £4.00\n– Adults £8.00\n– Teams of 4 £20.00\n– Blue Badge / Wheelchairs FREE \nThe money will be used to buy medals and pay for the set up costs for the event – any funds left over will be donated to local charities. \nCome and join the fun. \nDisclaimer\nPlease note that you will be completing the event at your own risk; you must dress for the weather conditions and bring your own water as there will not be any water stations. \nDogs are welcome as long as on leads and under control.
URL:https://www.gloucesterbid.uk/event/gloucester-santa-fun-run-2018/
LOCATION:Gloucester Park\, Gloucester Park\, Trier Way\, Gloucester\, Gloucestershire\, GL1 1LY
CATEGORIES:Events
ATTACH;FMTTYPE=image/jpeg:https://www.gloucesterbid.uk/wp-content/uploads/https_2F2Fcdn.evbuc_.com2Fimages2F514887432F2775249182362F12Foriginal.jpg
GEO:51.8592367;-2.2436909
X-APPLE-STRUCTURED-LOCATION;VALUE=URI;X-ADDRESS=Gloucester Park Gloucester Park Trier Way Gloucester Gloucestershire GL1 1LY;X-APPLE-RADIUS=500;X-TITLE=Gloucester Park\, Trier Way:geo:-2.2436909,51.8592367
END:VEVENT
END:VCALENDAR