


BEGIN:VCALENDAR
VERSION:2.0
PRODID:-//Gloucester BID - Business Improvement District - ECPv6.15.17.1//NONSGML v1.0//EN
CALSCALE:GREGORIAN
METHOD:PUBLISH
X-ORIGINAL-URL:https://www.gloucesterbid.uk
X-WR-CALDESC:Events for Gloucester BID - Business Improvement District
REFRESH-INTERVAL;VALUE=DURATION:PT1H
X-Robots-Tag:noindex
X-PUBLISHED-TTL:PT1H
BEGIN:VTIMEZONE
TZID:Europe/London
BEGIN:DAYLIGHT
TZOFFSETFROM:+0000
TZOFFSETTO:+0100
TZNAME:BST
DTSTART:20220327T010000
END:DAYLIGHT
BEGIN:STANDARD
TZOFFSETFROM:+0100
TZOFFSETTO:+0000
TZNAME:GMT
DTSTART:20221030T010000
END:STANDARD
BEGIN:DAYLIGHT
TZOFFSETFROM:+0000
TZOFFSETTO:+0100
TZNAME:BST
DTSTART:20230326T010000
END:DAYLIGHT
BEGIN:STANDARD
TZOFFSETFROM:+0100
TZOFFSETTO:+0000
TZNAME:GMT
DTSTART:20231029T010000
END:STANDARD
BEGIN:DAYLIGHT
TZOFFSETFROM:+0000
TZOFFSETTO:+0100
TZNAME:BST
DTSTART:20240331T010000
END:DAYLIGHT
BEGIN:STANDARD
TZOFFSETFROM:+0100
TZOFFSETTO:+0000
TZNAME:GMT
DTSTART:20241027T010000
END:STANDARD
END:VTIMEZONE
BEGIN:VEVENT
DTSTART;VALUE=DATE:20230722
DTEND;VALUE=DATE:20230724
DTSTAMP:20260422T015923
CREATED:20230531T165209Z
LAST-MODIFIED:20230613T163850Z
UID:283679-1689984000-1690156799@www.gloucesterbid.uk
SUMMARY:Food Festival 2023
DESCRIPTION:OUR FAMOUS FREE FOOD FESTIVAL IS BACK ON THE MENU \nGloucester Quays Free Food Festival – Saturday 22nd and Sunday 23rd July 2023 \nWe are excited to announce that on Saturday 22nd and Sunday 23rd July\, the most popular food festival in the South West is back to cook up a storm at the historic docks. If you love cooking or simply watching talented TV chefs show you how it’s done – this is ‘must save’ date for your diary! \nIn an open-air Cookery Theatre in Mariners Square\, hosted on both days by chef\, TV presenter and author Chris Bavin\, live cookery sessions will feature a mouth-watering line up of celebrity chefs including: \nSATURDAY \n\nLevi Roots\, aka the ‘Dragon Slayer’\, entrepreneur and chef\nCrystelle Pereira\, baker and author\, GBBO finalist 2021\nFreya Cox\, vegan baker\, GBBO 2021\n\nSUNDAY \n\nCherish Finden\, multi award winning pastry chef and judge on Bake Off – The Professionals\nSandro Farmhouse\, GBBO 2022 Finalist\nJanusz Domagala\, GBBO\, viewers favourite 2022\n\nOver the festival weekend\, food lovers will be able to savour: \n\nA whole menu of live demos\, where great chefs reveal how to make their favourite dishes\nOver 150 stalls offering a selection of local food\, quality produce and artisan crafts\nPop up bar’s serving a selection of local brews\, craft beer\, cocktails\, Pimm’s and fizz\nSome of the region’s best street-food\, including flavours from around the world\, veggie\, vegan\, sweet treats and more.\nLive music as you soak up the atmosphere in Orchard Square\n\nAnd the big part of the festival’s attraction is that it is completely free! We have fun\, free activities to keep the little ones entertained too! \nAll the open-air events\, displays and cookery sessions are free\, so there are lots of things for visitors to see\, do and taste. There is no need to buy tickets for the chef sessions or the Cookery Theatre\, however\, places for all events are first come\, first served – and they go like hot cakes! So\, it’s crucial to get to the festival early. \nAs well as lots of stalls tempting visitors with local food\, drink and tasty street-food – waterside bars and restaurants like Bill’s\, Brewhouse & Kitchen\, Côte Brasserie\, Portivo Lounge and Coal Kitchen will be serving their own freshly cooked specialities and dishes. \nAnd of course\, at top brand stores like Le Creuset\, Denby and ProCook\, inspired shoppers can take home stylish cookware and accessories at up to 70% off the RRP. \nThe Gloucester Quays Free Food Festival is an unmissable foodie weekend with plenty of time to take it easy and give in to temptation. \nFestival opening times. \n\nSaturday – The street-food stalls and pop-up bar will be open from 10am to 7pm and the Quay’s outlet stores between 10am and 7pm.\nSunday – The stalls\, pub and outlet shops will be open 10am to 5pm.
URL:https://www.gloucesterbid.uk/event/food-festival-2023/
LOCATION:Gloucester Quays
CATEGORIES:Drink,Entertainment,Events,Exhibition/Show,Food
ATTACH;FMTTYPE=image/png:https://www.gloucesterbid.uk/wp-content/uploads/Gloucester-Quays-Food-Festival-2023.png
END:VEVENT
END:VCALENDAR