


BEGIN:VCALENDAR
VERSION:2.0
PRODID:-//Gloucester BID - Business Improvement District - ECPv6.15.17.1//NONSGML v1.0//EN
CALSCALE:GREGORIAN
METHOD:PUBLISH
X-ORIGINAL-URL:https://www.gloucesterbid.uk
X-WR-CALDESC:Events for Gloucester BID - Business Improvement District
REFRESH-INTERVAL;VALUE=DURATION:PT1H
X-Robots-Tag:noindex
X-PUBLISHED-TTL:PT1H
BEGIN:VTIMEZONE
TZID:Europe/London
BEGIN:DAYLIGHT
TZOFFSETFROM:+0000
TZOFFSETTO:+0100
TZNAME:BST
DTSTART:20220327T010000
END:DAYLIGHT
BEGIN:STANDARD
TZOFFSETFROM:+0100
TZOFFSETTO:+0000
TZNAME:GMT
DTSTART:20221030T010000
END:STANDARD
BEGIN:DAYLIGHT
TZOFFSETFROM:+0000
TZOFFSETTO:+0100
TZNAME:BST
DTSTART:20230326T010000
END:DAYLIGHT
BEGIN:STANDARD
TZOFFSETFROM:+0100
TZOFFSETTO:+0000
TZNAME:GMT
DTSTART:20231029T010000
END:STANDARD
BEGIN:DAYLIGHT
TZOFFSETFROM:+0000
TZOFFSETTO:+0100
TZNAME:BST
DTSTART:20240331T010000
END:DAYLIGHT
BEGIN:STANDARD
TZOFFSETFROM:+0100
TZOFFSETTO:+0000
TZNAME:GMT
DTSTART:20241027T010000
END:STANDARD
BEGIN:DAYLIGHT
TZOFFSETFROM:+0000
TZOFFSETTO:+0100
TZNAME:BST
DTSTART:20250330T010000
END:DAYLIGHT
BEGIN:STANDARD
TZOFFSETFROM:+0100
TZOFFSETTO:+0000
TZNAME:GMT
DTSTART:20251026T010000
END:STANDARD
END:VTIMEZONE
BEGIN:VEVENT
DTSTART;TZID=Europe/London:20240323T180000
DTEND;TZID=Europe/London:20240323T210000
DTSTAMP:20260421T061908
CREATED:20240321T110513Z
LAST-MODIFIED:20240321T134016Z
UID:287400-1711216800-1711227600@www.gloucesterbid.uk
SUMMARY:Food by the fire: Hope Springs Gathering
DESCRIPTION:Gloucester Park Forum welcome you to celebrate a season of change with dance\, comedy\, storytelling\, drumming and fire\nperformers. Enjoy a hot dog with friends whilst roasting marshmallows on the fire pits. \nA free evening for families to gather by the fire. The event is outdoors\, so wrap up warm. We recommend walking and local transport. \nImage credit: Andre Pattende
URL:https://www.gloucesterbid.uk/event/food-by-fire-hope-springs-gathering/
LOCATION:Gloucester Park\, Gloucester Park\, Trier Way\, Gloucester\, Gloucestershire\, GL1 1LY
CATEGORIES:Events,Exhibition/Show,Family
ATTACH;FMTTYPE=image/jpeg:https://www.gloucesterbid.uk/wp-content/uploads/Bright-Nights-Fire-Pit-crop_Credit-Andre-Pattende.jpg
GEO:51.8592367;-2.2436909
X-APPLE-STRUCTURED-LOCATION;VALUE=URI;X-ADDRESS=Gloucester Park Gloucester Park Trier Way Gloucester Gloucestershire GL1 1LY;X-APPLE-RADIUS=500;X-TITLE=Gloucester Park\, Trier Way:geo:-2.2436909,51.8592367
END:VEVENT
BEGIN:VEVENT
DTSTART;TZID=Europe/London:20231118T130000
DTEND;TZID=Europe/London:20231118T181500
DTSTAMP:20260421T061908
CREATED:20231006T223934Z
LAST-MODIFIED:20231101T145111Z
UID:285449-1700312400-1700331300@www.gloucesterbid.uk
SUMMARY:Lantern Procession & Christmas Light Switch On
DESCRIPTION:A festive day out with free activities for all the family. Take part in the glowing lantern parade celebrating the 12 days of Christmas\, watch the Tree of Light Ceremony with a little love in Kings Square\, or join the singing and hear Gloucester Cathedral Carol Service a ringing. \nMake your own lantern – Eastgate shopping Centre – 1-4pm  \nIf you want to join the parade you are welcome to drop into this lantern making workshop to make your own 12 days of Christmas themed lantern. Sponsored by Gloucester BID\, the lantern workshops will be in Eastgate shopping centre between 1-4pm. \nLantern Procession & Christmas Lights Switch on – 4.40pm \nWe see the return of the Lantern Procession and Christmas Lights Illumination on 18 November\, starting at 4.40pm in Southgate Street. Children across 6 primary schools this year have drawn upon the theme of the ’12 days of Christmas’\, an array of illuminated lanterns\, pipers piping\, and flying gold rings\, will form a parade. Pupils from 6 Gloucester schools taking part this year are: Meadowside Primary School\, The Altus School\, Coney Hill Community Primary School\, Field Court C of E Infant Academy\, Dinglewell Junior School\, and Kingsway Primary School. \nFor the first time the parade route will include Kings Square. Happenings along the parade route include the Christmas light switch on at 4.50pm at the Cross\, illuminating the gate streets. The Tree of Light Ceremony at 5pm in Kings Square and ending at Gloucester Cathedral for the Carol Concert at 5.30pm – 6:15pm. \n\n\n\nLantern Parade – Saturday 18 November\n\n\n4.45pm\nProcession starts on Southgate Street\n\n\n4.47pm\nFront of Procession arrives at the Cross\n\n\n4.50pm\nLight Switch on at the Cross\n\n\n5-5.15pm\nKing’s Square: Tree of light Ceremony & Switch On\n\n\n5.16pm\nKings’ Square: Love art Performance (10 mins)\n\n\n5.26pm\nProcession Leaves Kings Square towards Cathedral\n\n\n5.34pm\nProcession arrives at Gloucester Cathedral\n\n\n5:45pm\nGloucester Cathedral Carol Service\n\n\n\nBright Nights Christmas is kindly supported by: Gloucester City Council and Gloucester BID.   \nImage credit: Visit Gloucester
URL:https://www.gloucesterbid.uk/event/lantern-procession-christmas-light-switch-on/
LOCATION:Gloucester City Centre\, Gloucester\, GL1 1PD\, United Kingdom
CATEGORIES:Activities,Entertainment,Events,Family
ATTACH;FMTTYPE=image/jpeg:https://www.gloucesterbid.uk/wp-content/uploads/Lantern_Festival_2023_Social_Card-scaled.jpg
GEO:51.8650565;-2.2457026
END:VEVENT
BEGIN:VEVENT
DTSTART;TZID=Europe/London:20231020T180000
DTEND;TZID=Europe/London:20231030T210000
DTSTAMP:20260421T061908
CREATED:20231012T105145Z
LAST-MODIFIED:20231012T105145Z
UID:285485-1697824800-1698699600@www.gloucesterbid.uk
SUMMARY:Windows Through Time on Westgate Street
DESCRIPTION:Windows Through Time’ is a striking light installation by renowned light artist Jack Wimperis. Huge windows will hang high above the street to highlight the amazing architecture in the wealth of historic buildings. Visitors to the street in the evenings of 20th and 21st\, 6-8pm\, will be able to pick up a trail leaflet from the Cathedral Quarter shop at no 21 Westgate St. The trail asks you to find 5 different types of historic windows and completed trails will receive a reward. \nTake a stroll down Westgate Streets colourful past and celebrate the local architecture using light. The ‘Windows Through Time’ light installation by light artist Jack Wimperis will be on display in Westgate Street. The artist made bespoke period windows that will hang high above the street\, and lighting will hi-light the amazing architecture in the wealth of historic buildings. \nJack Wimperis is based in Gloucestershire and started his career 40 years ago as a traditional stained-glass artist. He incorporated illumination into his pieces about 25 years ago and has subsequently built up a flourishing production studio producing sculptures\, installations and architectural lighting design. Artist\, Jack Wimperis says “It has been great to work with local business to animate Westgate Street and learn about the historic features on Westgate Street”. \nRun by Gloucester City Council and funded by Historic England\, Cathedral Quarter is breathing new life into Westgate Street by restoring historic buildings and bringing empty properties back into use. Gloucester Council’s HSHAZ team approached the Bright Nights to develop Windows Though Time through time to illuminate architectural features on Westgate Street buildings. \n (c) Andre Pattenden
URL:https://www.gloucesterbid.uk/event/windows-through-time-on-westgate-street/
LOCATION:Gloucestershire
CATEGORIES:Activities,Community,Events,Exhibition/Show,Family,Trail
ATTACH;FMTTYPE=image/jpeg:https://www.gloucesterbid.uk/wp-content/uploads/Windows-Through-Time-October-2023.jpg
END:VEVENT
END:VCALENDAR