


BEGIN:VCALENDAR
VERSION:2.0
PRODID:-//Gloucester BID - Business Improvement District - ECPv6.15.17.1//NONSGML v1.0//EN
CALSCALE:GREGORIAN
METHOD:PUBLISH
X-ORIGINAL-URL:https://www.gloucesterbid.uk
X-WR-CALDESC:Events for Gloucester BID - Business Improvement District
REFRESH-INTERVAL;VALUE=DURATION:PT1H
X-Robots-Tag:noindex
X-PUBLISHED-TTL:PT1H
BEGIN:VTIMEZONE
TZID:Europe/London
BEGIN:DAYLIGHT
TZOFFSETFROM:+0000
TZOFFSETTO:+0100
TZNAME:BST
DTSTART:20230326T010000
END:DAYLIGHT
BEGIN:STANDARD
TZOFFSETFROM:+0100
TZOFFSETTO:+0000
TZNAME:GMT
DTSTART:20231029T010000
END:STANDARD
BEGIN:DAYLIGHT
TZOFFSETFROM:+0000
TZOFFSETTO:+0100
TZNAME:BST
DTSTART:20240331T010000
END:DAYLIGHT
BEGIN:STANDARD
TZOFFSETFROM:+0100
TZOFFSETTO:+0000
TZNAME:GMT
DTSTART:20241027T010000
END:STANDARD
BEGIN:DAYLIGHT
TZOFFSETFROM:+0000
TZOFFSETTO:+0100
TZNAME:BST
DTSTART:20250330T010000
END:DAYLIGHT
BEGIN:STANDARD
TZOFFSETFROM:+0100
TZOFFSETTO:+0000
TZNAME:GMT
DTSTART:20251026T010000
END:STANDARD
END:VTIMEZONE
BEGIN:VEVENT
DTSTART;TZID=Europe/London:20240629T100000
DTEND;TZID=Europe/London:20241006T160000
DTSTAMP:20260422T185936
CREATED:20240704T211316Z
LAST-MODIFIED:20240704T211316Z
UID:292056-1719655200-1728230400@www.gloucesterbid.uk
SUMMARY:Brick History Exhibition (LEGO®)
DESCRIPTION:Unlocking the Past\, One Brick at a Time! \nDiscover Brick History at the Museum of Gloucester from 29 June – 6 October 2024. \nABOUT THE EXHIBITION: \nBuild memories brick by brick at our captivating LEGO® exhibition\, where iconic moments and figures are vividly brought to life. From Mozart to Martin Luther King Jr.\, from the Big Bang to DNA\, and from mobile phones to moon landings\, experience history on a relatable\, human scale. \nMarvel at our intricate LEGO® models\, from miniature marvels like the Concorde to sprawling spectacles like a bustling castle. Join us on a journey through time\, where the past is reimagined in vibrant LEGO® form. Let’s make history together\, one brick at a time!
URL:https://www.gloucesterbid.uk/event/brick-history-exhibition-lego/
LOCATION:Museum Of Gloucester\, Brunswick Road\, Gloucester\, GL1 1TH\, United Kingdom
CATEGORIES:Activities,Events,Exhibition/Show,Family,Talks/Educational
ATTACH;FMTTYPE=image/jpeg:https://www.gloucesterbid.uk/wp-content/uploads/LEGO-DIGITAL-Web_1920x1080_Text.jpg
GEO:51.8632439;-2.2444788
X-APPLE-STRUCTURED-LOCATION;VALUE=URI;X-ADDRESS=Museum Of Gloucester Brunswick Road Gloucester GL1 1TH United Kingdom;X-APPLE-RADIUS=500;X-TITLE=Brunswick Road:geo:-2.2444788,51.8632439
END:VEVENT
BEGIN:VEVENT
DTSTART;TZID=Europe/London:20241002T200000
DTEND;TZID=Europe/London:20241002T223000
DTSTAMP:20260422T185936
CREATED:20240521T101739Z
LAST-MODIFIED:20240521T101739Z
UID:288413-1727899200-1727908200@www.gloucesterbid.uk
SUMMARY:Ghosts and Giggles Haunted Tours
DESCRIPTION:Held every Monday\, Wednesday and Saturday night at 8pm\, we go on a historical and paranormal tour of Gloucester. \nTaking in Westgate Street\, Southgate Street and Northgate Street\, we delve into the history and paranormal surrounding some of the historic buildings.
URL:https://www.gloucesterbid.uk/event/ghosts-and-giggles-haunted-tours/2024-10-02/
LOCATION:Various venues across Gloucester City
CATEGORIES:Events,Talks/Educational,Tour
ATTACH;FMTTYPE=image/jpeg:https://www.gloucesterbid.uk/wp-content/uploads/Ghosts-and-Giggles-Tours.jpg
END:VEVENT
BEGIN:VEVENT
DTSTART;TZID=Europe/London:20241005T200000
DTEND;TZID=Europe/London:20241005T223000
DTSTAMP:20260422T185936
CREATED:20240521T101739Z
LAST-MODIFIED:20240521T101739Z
UID:288414-1728158400-1728167400@www.gloucesterbid.uk
SUMMARY:Ghosts and Giggles Haunted Tours
DESCRIPTION:Held every Monday\, Wednesday and Saturday night at 8pm\, we go on a historical and paranormal tour of Gloucester. \nTaking in Westgate Street\, Southgate Street and Northgate Street\, we delve into the history and paranormal surrounding some of the historic buildings.
URL:https://www.gloucesterbid.uk/event/ghosts-and-giggles-haunted-tours/2024-10-05/
LOCATION:Various venues across Gloucester City
CATEGORIES:Events,Talks/Educational,Tour
ATTACH;FMTTYPE=image/jpeg:https://www.gloucesterbid.uk/wp-content/uploads/Ghosts-and-Giggles-Tours.jpg
END:VEVENT
BEGIN:VEVENT
DTSTART;TZID=Europe/London:20241007T200000
DTEND;TZID=Europe/London:20241007T223000
DTSTAMP:20260422T185936
CREATED:20240521T101739Z
LAST-MODIFIED:20240521T101739Z
UID:288415-1728331200-1728340200@www.gloucesterbid.uk
SUMMARY:Ghosts and Giggles Haunted Tours
DESCRIPTION:Held every Monday\, Wednesday and Saturday night at 8pm\, we go on a historical and paranormal tour of Gloucester. \nTaking in Westgate Street\, Southgate Street and Northgate Street\, we delve into the history and paranormal surrounding some of the historic buildings.
URL:https://www.gloucesterbid.uk/event/ghosts-and-giggles-haunted-tours/2024-10-07/
LOCATION:Various venues across Gloucester City
CATEGORIES:Events,Talks/Educational,Tour
ATTACH;FMTTYPE=image/jpeg:https://www.gloucesterbid.uk/wp-content/uploads/Ghosts-and-Giggles-Tours.jpg
END:VEVENT
BEGIN:VEVENT
DTSTART;TZID=Europe/London:20241009T200000
DTEND;TZID=Europe/London:20241009T223000
DTSTAMP:20260422T185936
CREATED:20240521T101739Z
LAST-MODIFIED:20240521T101739Z
UID:288416-1728504000-1728513000@www.gloucesterbid.uk
SUMMARY:Ghosts and Giggles Haunted Tours
DESCRIPTION:Held every Monday\, Wednesday and Saturday night at 8pm\, we go on a historical and paranormal tour of Gloucester. \nTaking in Westgate Street\, Southgate Street and Northgate Street\, we delve into the history and paranormal surrounding some of the historic buildings.
URL:https://www.gloucesterbid.uk/event/ghosts-and-giggles-haunted-tours/2024-10-09/
LOCATION:Various venues across Gloucester City
CATEGORIES:Events,Talks/Educational,Tour
ATTACH;FMTTYPE=image/jpeg:https://www.gloucesterbid.uk/wp-content/uploads/Ghosts-and-Giggles-Tours.jpg
END:VEVENT
BEGIN:VEVENT
DTSTART;TZID=Europe/London:20241012T200000
DTEND;TZID=Europe/London:20241012T223000
DTSTAMP:20260422T185936
CREATED:20240521T101739Z
LAST-MODIFIED:20240521T101739Z
UID:288417-1728763200-1728772200@www.gloucesterbid.uk
SUMMARY:Ghosts and Giggles Haunted Tours
DESCRIPTION:Held every Monday\, Wednesday and Saturday night at 8pm\, we go on a historical and paranormal tour of Gloucester. \nTaking in Westgate Street\, Southgate Street and Northgate Street\, we delve into the history and paranormal surrounding some of the historic buildings.
URL:https://www.gloucesterbid.uk/event/ghosts-and-giggles-haunted-tours/2024-10-12/
LOCATION:Various venues across Gloucester City
CATEGORIES:Events,Talks/Educational,Tour
ATTACH;FMTTYPE=image/jpeg:https://www.gloucesterbid.uk/wp-content/uploads/Ghosts-and-Giggles-Tours.jpg
END:VEVENT
BEGIN:VEVENT
DTSTART;TZID=Europe/London:20241014T200000
DTEND;TZID=Europe/London:20241014T223000
DTSTAMP:20260422T185936
CREATED:20240521T101739Z
LAST-MODIFIED:20240521T101739Z
UID:288418-1728936000-1728945000@www.gloucesterbid.uk
SUMMARY:Ghosts and Giggles Haunted Tours
DESCRIPTION:Held every Monday\, Wednesday and Saturday night at 8pm\, we go on a historical and paranormal tour of Gloucester. \nTaking in Westgate Street\, Southgate Street and Northgate Street\, we delve into the history and paranormal surrounding some of the historic buildings.
URL:https://www.gloucesterbid.uk/event/ghosts-and-giggles-haunted-tours/2024-10-14/
LOCATION:Various venues across Gloucester City
CATEGORIES:Events,Talks/Educational,Tour
ATTACH;FMTTYPE=image/jpeg:https://www.gloucesterbid.uk/wp-content/uploads/Ghosts-and-Giggles-Tours.jpg
END:VEVENT
BEGIN:VEVENT
DTSTART;TZID=Europe/London:20241016T200000
DTEND;TZID=Europe/London:20241016T223000
DTSTAMP:20260422T185936
CREATED:20240521T101739Z
LAST-MODIFIED:20240521T101739Z
UID:288419-1729108800-1729117800@www.gloucesterbid.uk
SUMMARY:Ghosts and Giggles Haunted Tours
DESCRIPTION:Held every Monday\, Wednesday and Saturday night at 8pm\, we go on a historical and paranormal tour of Gloucester. \nTaking in Westgate Street\, Southgate Street and Northgate Street\, we delve into the history and paranormal surrounding some of the historic buildings.
URL:https://www.gloucesterbid.uk/event/ghosts-and-giggles-haunted-tours/2024-10-16/
LOCATION:Various venues across Gloucester City
CATEGORIES:Events,Talks/Educational,Tour
ATTACH;FMTTYPE=image/jpeg:https://www.gloucesterbid.uk/wp-content/uploads/Ghosts-and-Giggles-Tours.jpg
END:VEVENT
BEGIN:VEVENT
DTSTART;TZID=Europe/London:20241019T200000
DTEND;TZID=Europe/London:20241019T223000
DTSTAMP:20260422T185936
CREATED:20240521T101739Z
LAST-MODIFIED:20240521T101739Z
UID:288420-1729368000-1729377000@www.gloucesterbid.uk
SUMMARY:Ghosts and Giggles Haunted Tours
DESCRIPTION:Held every Monday\, Wednesday and Saturday night at 8pm\, we go on a historical and paranormal tour of Gloucester. \nTaking in Westgate Street\, Southgate Street and Northgate Street\, we delve into the history and paranormal surrounding some of the historic buildings.
URL:https://www.gloucesterbid.uk/event/ghosts-and-giggles-haunted-tours/2024-10-19/
LOCATION:Various venues across Gloucester City
CATEGORIES:Events,Talks/Educational,Tour
ATTACH;FMTTYPE=image/jpeg:https://www.gloucesterbid.uk/wp-content/uploads/Ghosts-and-Giggles-Tours.jpg
END:VEVENT
BEGIN:VEVENT
DTSTART;TZID=Europe/London:20241021T200000
DTEND;TZID=Europe/London:20241021T223000
DTSTAMP:20260422T185936
CREATED:20240521T101739Z
LAST-MODIFIED:20240521T101739Z
UID:288421-1729540800-1729549800@www.gloucesterbid.uk
SUMMARY:Ghosts and Giggles Haunted Tours
DESCRIPTION:Held every Monday\, Wednesday and Saturday night at 8pm\, we go on a historical and paranormal tour of Gloucester. \nTaking in Westgate Street\, Southgate Street and Northgate Street\, we delve into the history and paranormal surrounding some of the historic buildings.
URL:https://www.gloucesterbid.uk/event/ghosts-and-giggles-haunted-tours/2024-10-21/
LOCATION:Various venues across Gloucester City
CATEGORIES:Events,Talks/Educational,Tour
ATTACH;FMTTYPE=image/jpeg:https://www.gloucesterbid.uk/wp-content/uploads/Ghosts-and-Giggles-Tours.jpg
END:VEVENT
BEGIN:VEVENT
DTSTART;TZID=Europe/London:20241023T200000
DTEND;TZID=Europe/London:20241023T223000
DTSTAMP:20260422T185936
CREATED:20240521T101739Z
LAST-MODIFIED:20240521T101739Z
UID:288422-1729713600-1729722600@www.gloucesterbid.uk
SUMMARY:Ghosts and Giggles Haunted Tours
DESCRIPTION:Held every Monday\, Wednesday and Saturday night at 8pm\, we go on a historical and paranormal tour of Gloucester. \nTaking in Westgate Street\, Southgate Street and Northgate Street\, we delve into the history and paranormal surrounding some of the historic buildings.
URL:https://www.gloucesterbid.uk/event/ghosts-and-giggles-haunted-tours/2024-10-23/
LOCATION:Various venues across Gloucester City
CATEGORIES:Events,Talks/Educational,Tour
ATTACH;FMTTYPE=image/jpeg:https://www.gloucesterbid.uk/wp-content/uploads/Ghosts-and-Giggles-Tours.jpg
END:VEVENT
BEGIN:VEVENT
DTSTART;TZID=Europe/London:20241026T200000
DTEND;TZID=Europe/London:20241026T223000
DTSTAMP:20260422T185936
CREATED:20240521T101739Z
LAST-MODIFIED:20240521T101739Z
UID:288423-1729972800-1729981800@www.gloucesterbid.uk
SUMMARY:Ghosts and Giggles Haunted Tours
DESCRIPTION:Held every Monday\, Wednesday and Saturday night at 8pm\, we go on a historical and paranormal tour of Gloucester. \nTaking in Westgate Street\, Southgate Street and Northgate Street\, we delve into the history and paranormal surrounding some of the historic buildings.
URL:https://www.gloucesterbid.uk/event/ghosts-and-giggles-haunted-tours/2024-10-26/
LOCATION:Various venues across Gloucester City
CATEGORIES:Events,Talks/Educational,Tour
ATTACH;FMTTYPE=image/jpeg:https://www.gloucesterbid.uk/wp-content/uploads/Ghosts-and-Giggles-Tours.jpg
END:VEVENT
BEGIN:VEVENT
DTSTART;TZID=Europe/London:20241028T200000
DTEND;TZID=Europe/London:20241028T223000
DTSTAMP:20260422T185936
CREATED:20240521T101739Z
LAST-MODIFIED:20240521T101739Z
UID:288424-1730145600-1730154600@www.gloucesterbid.uk
SUMMARY:Ghosts and Giggles Haunted Tours
DESCRIPTION:Held every Monday\, Wednesday and Saturday night at 8pm\, we go on a historical and paranormal tour of Gloucester. \nTaking in Westgate Street\, Southgate Street and Northgate Street\, we delve into the history and paranormal surrounding some of the historic buildings.
URL:https://www.gloucesterbid.uk/event/ghosts-and-giggles-haunted-tours/2024-10-28/
LOCATION:Various venues across Gloucester City
CATEGORIES:Events,Talks/Educational,Tour
ATTACH;FMTTYPE=image/jpeg:https://www.gloucesterbid.uk/wp-content/uploads/Ghosts-and-Giggles-Tours.jpg
END:VEVENT
BEGIN:VEVENT
DTSTART;TZID=Europe/London:20241030T200000
DTEND;TZID=Europe/London:20241030T223000
DTSTAMP:20260422T185936
CREATED:20240521T101739Z
LAST-MODIFIED:20240521T101739Z
UID:288425-1730318400-1730327400@www.gloucesterbid.uk
SUMMARY:Ghosts and Giggles Haunted Tours
DESCRIPTION:Held every Monday\, Wednesday and Saturday night at 8pm\, we go on a historical and paranormal tour of Gloucester. \nTaking in Westgate Street\, Southgate Street and Northgate Street\, we delve into the history and paranormal surrounding some of the historic buildings.
URL:https://www.gloucesterbid.uk/event/ghosts-and-giggles-haunted-tours/2024-10-30/
LOCATION:Various venues across Gloucester City
CATEGORIES:Events,Talks/Educational,Tour
ATTACH;FMTTYPE=image/jpeg:https://www.gloucesterbid.uk/wp-content/uploads/Ghosts-and-Giggles-Tours.jpg
END:VEVENT
END:VCALENDAR