


BEGIN:VCALENDAR
VERSION:2.0
PRODID:-//Gloucester BID - Business Improvement District - ECPv6.15.17.1//NONSGML v1.0//EN
CALSCALE:GREGORIAN
METHOD:PUBLISH
X-ORIGINAL-URL:https://www.gloucesterbid.uk
X-WR-CALDESC:Events for Gloucester BID - Business Improvement District
REFRESH-INTERVAL;VALUE=DURATION:PT1H
X-Robots-Tag:noindex
X-PUBLISHED-TTL:PT1H
BEGIN:VTIMEZONE
TZID:Europe/London
BEGIN:DAYLIGHT
TZOFFSETFROM:+0000
TZOFFSETTO:+0100
TZNAME:BST
DTSTART:20230326T010000
END:DAYLIGHT
BEGIN:STANDARD
TZOFFSETFROM:+0100
TZOFFSETTO:+0000
TZNAME:GMT
DTSTART:20231029T010000
END:STANDARD
BEGIN:DAYLIGHT
TZOFFSETFROM:+0000
TZOFFSETTO:+0100
TZNAME:BST
DTSTART:20240331T010000
END:DAYLIGHT
BEGIN:STANDARD
TZOFFSETFROM:+0100
TZOFFSETTO:+0000
TZNAME:GMT
DTSTART:20241027T010000
END:STANDARD
BEGIN:DAYLIGHT
TZOFFSETFROM:+0000
TZOFFSETTO:+0100
TZNAME:BST
DTSTART:20250330T010000
END:DAYLIGHT
BEGIN:STANDARD
TZOFFSETFROM:+0100
TZOFFSETTO:+0000
TZNAME:GMT
DTSTART:20251026T010000
END:STANDARD
END:VTIMEZONE
BEGIN:VEVENT
DTSTART;TZID=Europe/London:20240420T110000
DTEND;TZID=Europe/London:20240420T153000
DTSTAMP:20260423T141726
CREATED:20240312T140526Z
LAST-MODIFIED:20240416T084328Z
UID:287243-1713610800-1713627000@www.gloucesterbid.uk
SUMMARY:Pysanky Easter Egg Decorating Workshop
DESCRIPTION:Pysanky are traditional Ukrainian Easter Eggs decorated with wax symbols and dipped in coloured dye.\n\nThey represent rebirth and resurrection. Ex colour and symbol holds meaning and significance. Traditionally 13 eggs would be made – one for Christ and for each of the disciples.\n\nThis workshop is suitable for all and all materials are provided.\n\nBecause we want everyone to be able to take part\, especially Ukrainians who have been displaced by war\, we are selling tickets at just £5.50. This covers materials. However\, we believe that this workshop is worth much more than that\, so we encourage you\, if you can\, to make a donation of at least £10 to the workshop leader on arrival.\n\nWorkshop times:\n11.00am to 1.00pm – First session12.30pm to 2.00pm – Break for lunch\n2.00pm to 4.00pm – Second session
URL:https://www.gloucesterbid.uk/event/pysanky-easter-egg-decorating-workshop/
LOCATION:The Folk of Gloucester\, 99-103 Westgate Street\, Gloucester\, Gloucestershire\, GL1 2PG\, United Kingdom
CATEGORIES:Activities,Craft,Events,Talks/Educational
ATTACH;FMTTYPE=image/jpeg:https://www.gloucesterbid.uk/wp-content/uploads/Pysanky-Easter-Egg-Decorating-Workshop.jpg
END:VEVENT
END:VCALENDAR