


BEGIN:VCALENDAR
VERSION:2.0
PRODID:-//Gloucester BID - Business Improvement District - ECPv6.15.17.1//NONSGML v1.0//EN
CALSCALE:GREGORIAN
METHOD:PUBLISH
X-ORIGINAL-URL:https://www.gloucesterbid.uk
X-WR-CALDESC:Events for Gloucester BID - Business Improvement District
REFRESH-INTERVAL;VALUE=DURATION:PT1H
X-Robots-Tag:noindex
X-PUBLISHED-TTL:PT1H
BEGIN:VTIMEZONE
TZID:Europe/London
BEGIN:DAYLIGHT
TZOFFSETFROM:+0000
TZOFFSETTO:+0100
TZNAME:BST
DTSTART:20250330T010000
END:DAYLIGHT
BEGIN:STANDARD
TZOFFSETFROM:+0100
TZOFFSETTO:+0000
TZNAME:GMT
DTSTART:20251026T010000
END:STANDARD
BEGIN:DAYLIGHT
TZOFFSETFROM:+0000
TZOFFSETTO:+0100
TZNAME:BST
DTSTART:20260329T010000
END:DAYLIGHT
BEGIN:STANDARD
TZOFFSETFROM:+0100
TZOFFSETTO:+0000
TZNAME:GMT
DTSTART:20261025T010000
END:STANDARD
BEGIN:DAYLIGHT
TZOFFSETFROM:+0000
TZOFFSETTO:+0100
TZNAME:BST
DTSTART:20270328T010000
END:DAYLIGHT
BEGIN:STANDARD
TZOFFSETFROM:+0100
TZOFFSETTO:+0000
TZNAME:GMT
DTSTART:20271031T010000
END:STANDARD
END:VTIMEZONE
BEGIN:VEVENT
DTSTART;TZID=Europe/London:20260601T100000
DTEND;TZID=Europe/London:20260601T120000
DTSTAMP:20260422T024201
CREATED:20260120T162014Z
LAST-MODIFIED:20260203T133557Z
UID:298720-1780308000-1780315200@www.gloucesterbid.uk
SUMMARY:BiG Gloucester Clean Up
DESCRIPTION:Join us for our monthly BiG Gloucester Clean Up! ♻️ \nTidying up Gloucester one street at a time to make it more attractive to live\, work and visit. \nBring your gloves and tools\, and keep an eye on our socials for the exact location each month\, where we’ll be picking up litter\, cleaning off graffiti\, removing posters/stickers and weeding planters/green spaces. \nNew volunteers are always welcome! Email us for further details to marketing@gloucesterbid.org.uk 💚
URL:https://www.gloucesterbid.uk/event/big-gloucester-clean-up-2/2026-06-01/
LOCATION:Various venues across Gloucester City
CATEGORIES:Community,Events
ATTACH;FMTTYPE=image/jpeg:https://www.gloucesterbid.uk/wp-content/uploads/Team-Photo-Landscape-scaled.jpeg
END:VEVENT
BEGIN:VEVENT
DTSTART;TZID=Europe/London:20260606T110000
DTEND;TZID=Europe/London:20260606T150000
DTSTAMP:20260422T024201
CREATED:20260310T114437Z
LAST-MODIFIED:20260310T114437Z
UID:299215-1780743600-1780758000@www.gloucesterbid.uk
SUMMARY:Dino-ROAR! 2026
DESCRIPTION:Gloucester will be taken over by dinosaurs this weekend\, 6-7 June! Get ready for a prehistoric party in the heart of the city! \nGloucester is set to host the exciting Dino-ROAR Weekend in Kings Square\, promising two days of dinosaur-sized fun for the whole family. \n11am-3pm on Saturday and Sunday \nPlease check the social media for any changes to venue\, due to weather.
URL:https://www.gloucesterbid.uk/event/dino-roar-2026/2026-06-06/
LOCATION:Kings Sqaure
CATEGORIES:Activities,Entertainment,Family
END:VEVENT
BEGIN:VEVENT
DTSTART;TZID=Europe/London:20260607T110000
DTEND;TZID=Europe/London:20260607T150000
DTSTAMP:20260422T024201
CREATED:20260310T114437Z
LAST-MODIFIED:20260310T114437Z
UID:299218-1780830000-1780844400@www.gloucesterbid.uk
SUMMARY:Dino-ROAR! 2026
DESCRIPTION:Gloucester will be taken over by dinosaurs this weekend\, 6-7 June! Get ready for a prehistoric party in the heart of the city! \nGloucester is set to host the exciting Dino-ROAR Weekend in Kings Square\, promising two days of dinosaur-sized fun for the whole family. \n11am-3pm on Saturday and Sunday \nPlease check the social media for any changes to venue\, due to weather.
URL:https://www.gloucesterbid.uk/event/dino-roar-2026/2026-06-07/
LOCATION:Kings Sqaure
CATEGORIES:Activities,Entertainment,Family
END:VEVENT
END:VCALENDAR