


BEGIN:VCALENDAR
VERSION:2.0
PRODID:-//Gloucester BID - Business Improvement District - ECPv6.15.17.1//NONSGML v1.0//EN
CALSCALE:GREGORIAN
METHOD:PUBLISH
X-ORIGINAL-URL:https://www.gloucesterbid.uk
X-WR-CALDESC:Events for Gloucester BID - Business Improvement District
REFRESH-INTERVAL;VALUE=DURATION:PT1H
X-Robots-Tag:noindex
X-PUBLISHED-TTL:PT1H
BEGIN:VTIMEZONE
TZID:Europe/London
BEGIN:DAYLIGHT
TZOFFSETFROM:+0000
TZOFFSETTO:+0100
TZNAME:BST
DTSTART:20130331T010000
END:DAYLIGHT
BEGIN:STANDARD
TZOFFSETFROM:+0100
TZOFFSETTO:+0000
TZNAME:GMT
DTSTART:20131027T010000
END:STANDARD
BEGIN:DAYLIGHT
TZOFFSETFROM:+0000
TZOFFSETTO:+0100
TZNAME:BST
DTSTART:20140330T010000
END:DAYLIGHT
BEGIN:STANDARD
TZOFFSETFROM:+0100
TZOFFSETTO:+0000
TZNAME:GMT
DTSTART:20141026T010000
END:STANDARD
BEGIN:DAYLIGHT
TZOFFSETFROM:+0000
TZOFFSETTO:+0100
TZNAME:BST
DTSTART:20150329T010000
END:DAYLIGHT
BEGIN:STANDARD
TZOFFSETFROM:+0100
TZOFFSETTO:+0000
TZNAME:GMT
DTSTART:20151025T010000
END:STANDARD
END:VTIMEZONE
BEGIN:VEVENT
DTSTART;TZID=Europe/London:20140416T192500
DTEND;TZID=Europe/London:20140416T210000
DTSTAMP:20260424T042353
CREATED:20140309T132101Z
LAST-MODIFIED:20140309T132101Z
UID:9067-1397676300-1397682000@www.gloucesterbid.uk
SUMMARY:An evening with Richard Graham
DESCRIPTION:A not too serious talk on doing business under democracies\, dictatorships and communists. \nThe event is taking place on Wednesday 16th April at the New County Hotel\, Southgate St. commencing at 7-30pm and includes a three course meal and wine as per the attached menu at a price of £25 per person. \nThis event is likely to be very popular and booking early is recommended. \nPlease book using the contact details below by the end of March\, booking direct with the Hotel will not be accepted. \nWhen booking\, please confirm number of tickets required\, menu options\, names and addresses. \nMark Boyce \nPresident \nGloucester Chamber of Commerce \n43 Clarence Street \nGloucester\, GL1 1EA \nTel: 0845 271 2844 \nMobile: 07888 680146 \nEmail: info@GloucesterChamber.org.uk \n 
URL:https://www.gloucesterbid.uk/event/an-evening-with-richard-graham/
LOCATION:New County Hotel\, Southgate St\, Gloucester
CATEGORIES:Events,Talks/Educational
GEO:51.862074;-2.2497424
X-APPLE-STRUCTURED-LOCATION;VALUE=URI;X-ADDRESS=New County Hotel Southgate St Gloucester;X-APPLE-RADIUS=500;X-TITLE=Southgate St:geo:-2.2497424,51.862074
END:VEVENT
END:VCALENDAR