


BEGIN:VCALENDAR
VERSION:2.0
PRODID:-//Gloucester BID - Business Improvement District - ECPv6.15.17.1//NONSGML v1.0//EN
CALSCALE:GREGORIAN
METHOD:PUBLISH
X-ORIGINAL-URL:https://www.gloucesterbid.uk
X-WR-CALDESC:Events for Gloucester BID - Business Improvement District
REFRESH-INTERVAL;VALUE=DURATION:PT1H
X-Robots-Tag:noindex
X-PUBLISHED-TTL:PT1H
BEGIN:VTIMEZONE
TZID:Europe/London
BEGIN:DAYLIGHT
TZOFFSETFROM:+0000
TZOFFSETTO:+0100
TZNAME:BST
DTSTART:20160327T010000
END:DAYLIGHT
BEGIN:STANDARD
TZOFFSETFROM:+0100
TZOFFSETTO:+0000
TZNAME:GMT
DTSTART:20161030T010000
END:STANDARD
BEGIN:DAYLIGHT
TZOFFSETFROM:+0000
TZOFFSETTO:+0100
TZNAME:BST
DTSTART:20170326T010000
END:DAYLIGHT
BEGIN:STANDARD
TZOFFSETFROM:+0100
TZOFFSETTO:+0000
TZNAME:GMT
DTSTART:20171029T010000
END:STANDARD
BEGIN:DAYLIGHT
TZOFFSETFROM:+0000
TZOFFSETTO:+0100
TZNAME:BST
DTSTART:20180325T010000
END:DAYLIGHT
BEGIN:STANDARD
TZOFFSETFROM:+0100
TZOFFSETTO:+0000
TZNAME:GMT
DTSTART:20181028T010000
END:STANDARD
BEGIN:DAYLIGHT
TZOFFSETFROM:+0000
TZOFFSETTO:+0100
TZNAME:BST
DTSTART:20190331T010000
END:DAYLIGHT
BEGIN:STANDARD
TZOFFSETFROM:+0100
TZOFFSETTO:+0000
TZNAME:GMT
DTSTART:20191027T010000
END:STANDARD
BEGIN:DAYLIGHT
TZOFFSETFROM:+0000
TZOFFSETTO:+0100
TZNAME:BST
DTSTART:20200329T010000
END:DAYLIGHT
BEGIN:STANDARD
TZOFFSETFROM:+0100
TZOFFSETTO:+0000
TZNAME:GMT
DTSTART:20201025T010000
END:STANDARD
BEGIN:DAYLIGHT
TZOFFSETFROM:+0000
TZOFFSETTO:+0100
TZNAME:BST
DTSTART:20210328T010000
END:DAYLIGHT
BEGIN:STANDARD
TZOFFSETFROM:+0100
TZOFFSETTO:+0000
TZNAME:GMT
DTSTART:20211031T010000
END:STANDARD
BEGIN:DAYLIGHT
TZOFFSETFROM:+0000
TZOFFSETTO:+0100
TZNAME:BST
DTSTART:20220327T010000
END:DAYLIGHT
BEGIN:STANDARD
TZOFFSETFROM:+0100
TZOFFSETTO:+0000
TZNAME:GMT
DTSTART:20221030T010000
END:STANDARD
BEGIN:DAYLIGHT
TZOFFSETFROM:+0000
TZOFFSETTO:+0100
TZNAME:BST
DTSTART:20230326T010000
END:DAYLIGHT
BEGIN:STANDARD
TZOFFSETFROM:+0100
TZOFFSETTO:+0000
TZNAME:GMT
DTSTART:20231029T010000
END:STANDARD
BEGIN:DAYLIGHT
TZOFFSETFROM:+0000
TZOFFSETTO:+0100
TZNAME:BST
DTSTART:20240331T010000
END:DAYLIGHT
BEGIN:STANDARD
TZOFFSETFROM:+0100
TZOFFSETTO:+0000
TZNAME:GMT
DTSTART:20241027T010000
END:STANDARD
BEGIN:DAYLIGHT
TZOFFSETFROM:+0000
TZOFFSETTO:+0100
TZNAME:BST
DTSTART:20250330T010000
END:DAYLIGHT
BEGIN:STANDARD
TZOFFSETFROM:+0100
TZOFFSETTO:+0000
TZNAME:GMT
DTSTART:20251026T010000
END:STANDARD
END:VTIMEZONE
BEGIN:VEVENT
DTSTART;TZID=Europe/London:20240525T110000
DTEND;TZID=Europe/London:20240525T150000
DTSTAMP:20260425T224653
CREATED:20240521T094332Z
LAST-MODIFIED:20240521T094332Z
UID:288210-1716634800-1716649200@www.gloucesterbid.uk
SUMMARY:Spring Bank Holiday Open Weekend
DESCRIPTION:Step inside our listed buildings and find out more about the events and people that shaped Llanthony’s history\, including an Archbishop of Canterbury\, and King Henry VII. \nThis is also during the Tall Ships Festival in Gloucester so there will be lots to enjoy and visit!
URL:https://www.gloucesterbid.uk/event/spring-bank-holiday-open-weekend/2024-05-25/
LOCATION:Llanthony Secunda Priory\, llanthony secunda priory\, Gloucester\, Gloucestershire\, GL2 5QT\, United Kingdom
CATEGORIES:Activities,Events,Family,Talks/Educational,Tour
ATTACH;FMTTYPE=image/jpeg:https://www.gloucesterbid.uk/wp-content/uploads/Llanthony-Secunda-Priory-1.jpg
GEO:51.8600804;-2.2571801
X-APPLE-STRUCTURED-LOCATION;VALUE=URI;X-ADDRESS=Llanthony Secunda Priory llanthony secunda priory Gloucester Gloucestershire GL2 5QT United Kingdom;X-APPLE-RADIUS=500;X-TITLE=llanthony secunda priory:geo:-2.2571801,51.8600804
END:VEVENT
BEGIN:VEVENT
DTSTART;TZID=Europe/London:20230813T133000
DTEND;TZID=Europe/London:20230813T143000
DTSTAMP:20260425T224653
CREATED:20230411T113615Z
LAST-MODIFIED:20230411T113615Z
UID:283295-1691933400-1691937000@www.gloucesterbid.uk
SUMMARY:Peter Rabbit – Outdoor Theatre Performance
DESCRIPTION:Join Peter and his naughty cousin Benjamin at Llanthony Secunda Priory on their hair-raising adventures in Mr McGregor’s garden in a delightful new adaptation of Beatrix Potter’s much-loved Tales. \nQuantum Theatre presents an enchanting adaptation of two of Beatrix Potter’s most popular tales — The Tale of Peter Rabbit and The Tale of Benjamin Bunny. Peter and his naughty cousin Benjamin know very well that they are not to go into Mr McGregor’s garden\, but they cannot resist and soon they find themselves face to face Mr McGregor himself! \n  \nAbout the Event\nDate: Sunday\, 13th August\, 2023 \nDoors Open: 1:30pm \nShow Start Time: 2:30pm \nDuration: Approx 1hr 40mins (including a 15 minute interval) \nThis is an outdoor production\, so come dressed for the weather and please bring foldaway chairs\, blankets and enjoy a wonderful afternoon of open air entertainment. Our Clements Cafe will also be open serving hot and cold drinks and snacks. \n  \nTicket Prices\nAdult £15 \nChildren £10 \nConcessionary £12 (over 65s) \nUnder 2s FREE
URL:https://www.gloucesterbid.uk/event/peter-rabbit-outdoor-theatre-performance/
LOCATION:Llanthony Secunda Priory\, llanthony secunda priory\, Gloucester\, Gloucestershire\, GL2 5QT\, United Kingdom
CATEGORIES:Entertainment,Exhibition/Show,Family,Theatre
GEO:51.8600804;-2.2571801
X-APPLE-STRUCTURED-LOCATION;VALUE=URI;X-ADDRESS=Llanthony Secunda Priory llanthony secunda priory Gloucester Gloucestershire GL2 5QT United Kingdom;X-APPLE-RADIUS=500;X-TITLE=llanthony secunda priory:geo:-2.2571801,51.8600804
END:VEVENT
BEGIN:VEVENT
DTSTART;TZID=Europe/London:20220502T110000
DTEND;TZID=Europe/London:20220502T160000
DTSTAMP:20260425T224653
CREATED:20220427T064515Z
LAST-MODIFIED:20220427T064516Z
UID:279963-1651489200-1651507200@www.gloucesterbid.uk
SUMMARY:Llanthony Secunda Priory - Summer Fair
DESCRIPTION:Llanthony Secunda Priory is inviting you to join them at their Summer Fair this weekend to shop small and fabulous! 🛍🌞\nHenry Dene Hall will be bustling with the most unique\, creative and artisan gifts and treats from some of Gloucestershire’s loveliest little businesses:\nJacqueline Hammond Art ֍ Wicked Whisk Bakes ֍ Birch Cottage Crafts ֍ Painting House Crafts ֍ Kay’s Pots ֍ Made in the Button Room ֍ Taylor Made Melts ֍ Katherine Ford ֍ Girl Guiding ֍ Fire Phoenix ֍ Cuthbert the Croc ֍ Under Capricorn ֍ Clement’s Cafe ֍ Friends of Llanthony Secunda \nTake a leisurely stroll around the beautiful heritage buildings and tranquil grounds – the knowledgeable volunteers will be on hand to answer all your history questions! \nYou can also grab a drink and ice cream from the Clement’s Café from 11am. The perfect family and friends day out this Bank Holiday!
URL:https://www.gloucesterbid.uk/event/llanthony-secunda-priory-summer-fair-2/
LOCATION:Llanthony Secunda Priory\, llanthony secunda priory\, Gloucester\, Gloucestershire\, GL2 5QT\, United Kingdom
CATEGORIES:Community,Craft,Events,Fairs,Family,Market,Small Business
ATTACH;FMTTYPE=image/jpeg:https://www.gloucesterbid.uk/wp-content/uploads/summer-fair.jpg
GEO:51.8600804;-2.2571801
X-APPLE-STRUCTURED-LOCATION;VALUE=URI;X-ADDRESS=Llanthony Secunda Priory llanthony secunda priory Gloucester Gloucestershire GL2 5QT United Kingdom;X-APPLE-RADIUS=500;X-TITLE=llanthony secunda priory:geo:-2.2571801,51.8600804
END:VEVENT
BEGIN:VEVENT
DTSTART;TZID=Europe/London:20220501T110000
DTEND;TZID=Europe/London:20220501T160000
DTSTAMP:20260425T224653
CREATED:20220427T063745Z
LAST-MODIFIED:20220427T064215Z
UID:279956-1651402800-1651420800@www.gloucesterbid.uk
SUMMARY:Llanthony Secunda Priory - Summer Fair
DESCRIPTION:Llanthony Secunda Priory is inviting you to join them at their Summer Fair this weekend to shop small and fabulous! 🛍🌞\nHenry Dene Hall will be bustling with the most unique\, creative and artisan gifts and treats from some of Gloucestershire’s loveliest little businesses:\nJacqueline Hammond Art ֍ Wicked Whisk Bakes ֍ Birch Cottage Crafts ֍ Painting House Crafts ֍ Kay’s Pots ֍ Made in the Button Room ֍ Taylor Made Melts ֍ Katherine Ford ֍ Girl Guiding ֍ Fire Phoenix ֍ Cuthbert the Croc ֍ Under Capricorn ֍ Clement’s Cafe ֍ Friends of Llanthony Secunda \nTake a leisurely stroll around the beautiful heritage buildings and tranquil grounds – the knowledgeable volunteers will be on hand to answer all your history questions! \nYou can also grab a drink and ice cream from the Clement’s Café from 11am. The perfect family and friends day out this Bank Holiday!
URL:https://www.gloucesterbid.uk/event/llanthony-secunda-priory-summer-fair/
LOCATION:Llanthony Secunda Priory\, llanthony secunda priory\, Gloucester\, Gloucestershire\, GL2 5QT\, United Kingdom
CATEGORIES:Community,Craft,Events,Fairs,Family,Market
ATTACH;FMTTYPE=image/jpeg:https://www.gloucesterbid.uk/wp-content/uploads/summer-fair.jpg
GEO:51.8600804;-2.2571801
X-APPLE-STRUCTURED-LOCATION;VALUE=URI;X-ADDRESS=Llanthony Secunda Priory llanthony secunda priory Gloucester Gloucestershire GL2 5QT United Kingdom;X-APPLE-RADIUS=500;X-TITLE=llanthony secunda priory:geo:-2.2571801,51.8600804
END:VEVENT
BEGIN:VEVENT
DTSTART;TZID=Europe/London:20201124T080000
DTEND;TZID=Europe/London:20201217T170000
DTSTAMP:20260425T224653
CREATED:20201123T123003Z
LAST-MODIFIED:20201123T123003Z
UID:271956-1606204800-1608224400@www.gloucesterbid.uk
SUMMARY:'Emergence' art installations in the Llanthony Secunda Priory grounds
DESCRIPTION:The beautiful grounds of Llanthony Secunda Priory will be hosting outside art installations from the 24th November until 17th December. \nThe grounds are open 7 days a week and admission is free for all. \nTammy Woodrow’s installation is part of her ‘Kokon’ series\, inspired by medieval texts: ‘As an experimental sculptor I am often inspired by history and locations. My abstract and organic structures are handmade and assembled with industrial materials.’ \nWilliam Lindley is a visual artist\, who creates works on paper and objects\, as well as creating moving images and installation. ‘My works have been presented in various settings including galleries\, concert halls\, theatres\, museums and historic buildings. For Emergence I have created a series of drawings on panel which open up and reimagine the fascinating history of Llanthony Secunda Priory.’
URL:https://www.gloucesterbid.uk/event/emergence-art-installations-in-the-llanthony-secunda-priory-grounds/
LOCATION:Llanthony Secunda Priory\, llanthony secunda priory\, Gloucester\, Gloucestershire\, GL2 5QT\, United Kingdom
CATEGORIES:Events,Exhibition/Show
ATTACH;FMTTYPE=image/jpeg:https://www.gloucesterbid.uk/wp-content/uploads/Will-Lindley-LSP-scene-blue-scaled-1.jpg
GEO:51.8600804;-2.2571801
X-APPLE-STRUCTURED-LOCATION;VALUE=URI;X-ADDRESS=Llanthony Secunda Priory llanthony secunda priory Gloucester Gloucestershire GL2 5QT United Kingdom;X-APPLE-RADIUS=500;X-TITLE=llanthony secunda priory:geo:-2.2571801,51.8600804
END:VEVENT
BEGIN:VEVENT
DTSTART;VALUE=DATE:20170729
DTEND;VALUE=DATE:20170730
DTSTAMP:20260425T224653
CREATED:20170719T114607Z
LAST-MODIFIED:20170719T114608Z
UID:153742-1501286400-1501372799@www.gloucesterbid.uk
SUMMARY:FREE EVENT! Llanthony Secunda Priory Open Day
DESCRIPTION:Find out whats going on behind the scenes on the construction at the priory seeing the heritage skills in action!. \n\n 
URL:https://www.gloucesterbid.uk/event/free-event-llanthony-secunda-priory-open-day/
LOCATION:Llanthony Secunda Priory\, llanthony secunda priory\, Gloucester\, Gloucestershire\, GL2 5QT\, United Kingdom
CATEGORIES:Entertainment,Exhibition/Show,Talks/Educational
ATTACH;FMTTYPE=image/jpeg:https://www.gloucesterbid.uk/wp-content/uploads/llanthony-secunda-priory.jpg
GEO:51.8600804;-2.2571801
X-APPLE-STRUCTURED-LOCATION;VALUE=URI;X-ADDRESS=Llanthony Secunda Priory llanthony secunda priory Gloucester Gloucestershire GL2 5QT United Kingdom;X-APPLE-RADIUS=500;X-TITLE=llanthony secunda priory:geo:-2.2571801,51.8600804
END:VEVENT
END:VCALENDAR