


BEGIN:VCALENDAR
VERSION:2.0
PRODID:-//Gloucester BID - Business Improvement District - ECPv6.15.17.1//NONSGML v1.0//EN
CALSCALE:GREGORIAN
METHOD:PUBLISH
X-WR-CALNAME:Gloucester BID - Business Improvement District
X-ORIGINAL-URL:https://www.gloucesterbid.uk
X-WR-CALDESC:Events for Gloucester BID - Business Improvement District
REFRESH-INTERVAL;VALUE=DURATION:PT1H
X-Robots-Tag:noindex
X-PUBLISHED-TTL:PT1H
BEGIN:VTIMEZONE
TZID:Europe/London
BEGIN:DAYLIGHT
TZOFFSETFROM:+0000
TZOFFSETTO:+0100
TZNAME:BST
DTSTART:20130331T010000
END:DAYLIGHT
BEGIN:STANDARD
TZOFFSETFROM:+0100
TZOFFSETTO:+0000
TZNAME:GMT
DTSTART:20131027T010000
END:STANDARD
BEGIN:DAYLIGHT
TZOFFSETFROM:+0000
TZOFFSETTO:+0100
TZNAME:BST
DTSTART:20140330T010000
END:DAYLIGHT
BEGIN:STANDARD
TZOFFSETFROM:+0100
TZOFFSETTO:+0000
TZNAME:GMT
DTSTART:20141026T010000
END:STANDARD
BEGIN:DAYLIGHT
TZOFFSETFROM:+0000
TZOFFSETTO:+0100
TZNAME:BST
DTSTART:20150329T010000
END:DAYLIGHT
BEGIN:STANDARD
TZOFFSETFROM:+0100
TZOFFSETTO:+0000
TZNAME:GMT
DTSTART:20151025T010000
END:STANDARD
BEGIN:DAYLIGHT
TZOFFSETFROM:+0000
TZOFFSETTO:+0100
TZNAME:BST
DTSTART:20160327T010000
END:DAYLIGHT
BEGIN:STANDARD
TZOFFSETFROM:+0100
TZOFFSETTO:+0000
TZNAME:GMT
DTSTART:20161030T010000
END:STANDARD
END:VTIMEZONE
BEGIN:VEVENT
DTSTART;TZID=Europe/London:20150702T120000
DTEND;TZID=Europe/London:20150702T160000
DTSTAMP:20260420T005128
CREATED:20150615T121513Z
LAST-MODIFIED:20150615T121513Z
UID:88957-1435838400-1435852800@www.gloucesterbid.uk
SUMMARY:Lunch with a Legend—Zinzan at the New County Gloucester
DESCRIPTION:With the Rugby World Cup just a few months away\, what better way to get ready than to have lunch with one of the legends of the game – Zinzan Brooke. He played 58 tests for the All Blacks scoring 89 points including 17 tries and remarkably for a back row forward\, 3 drop goals! \n  Tables of 10 are available for £450 plus VAT which will include a three course meal.\n  A small number of Premium tables are also available for this event at £600 plus VAT which will offer prime location seating and a selection of wine on the table.   In addition\, there will also be an opportunity to purchase a limited number of individual places on a shared table of 10 priced at £45 per person plus VAT. \nDemand for tickets will be high\, so to secure your place please contact Helen (details below \nA i t c h  a nd  A i t c h  B e e  E v e nt s  Lt d \nPhone: 07766 027272\nEmail: helen@aitchandaitchbee.buzz\n23 Westgate House\,\nGloucester\nGL1 2RU
URL:https://www.gloucesterbid.uk/event/lunch-with-a-legend-zinzan-at-the-new-county-gloucester/
LOCATION:New County Hotel\, Southgate St\, Gloucester
CATEGORIES:Events
GEO:51.862074;-2.2497424
X-APPLE-STRUCTURED-LOCATION;VALUE=URI;X-ADDRESS=New County Hotel Southgate St Gloucester;X-APPLE-RADIUS=500;X-TITLE=Southgate St:geo:-2.2497424,51.862074
END:VEVENT
BEGIN:VEVENT
DTSTART;TZID=Europe/London:20150628T120000
DTEND;TZID=Europe/London:20150628T200000
DTSTAMP:20260420T005128
CREATED:20150521T122908Z
LAST-MODIFIED:20150521T122908Z
UID:82574-1435492800-1435521600@www.gloucesterbid.uk
SUMMARY:Smash ‘n’ Splat Nintendo at The New County Gloucester
DESCRIPTION:Nintendoid is back with a new venue and some new games for Gloucestershire’s Biggest Video Game Tournament/Event. \nTOURNAMENT GAMES\nOn offer this time is 5 games: \n\nSuper Smash Bros. Wii U\nSplatoon\nMario Kart 8\nPokemon Omega Ruby & Alpha Sapphire\nMonster Hunter 3 Ultimate\nSuper Smash Bros. Melee (Supported by community)
URL:https://www.gloucesterbid.uk/event/smash-n-splat-nintendo-at-the-new-county-gloucester/
LOCATION:New County Hotel\, Southgate St\, Gloucester
CATEGORIES:Events
GEO:51.862074;-2.2497424
X-APPLE-STRUCTURED-LOCATION;VALUE=URI;X-ADDRESS=New County Hotel Southgate St Gloucester;X-APPLE-RADIUS=500;X-TITLE=Southgate St:geo:-2.2497424,51.862074
END:VEVENT
BEGIN:VEVENT
DTSTART;TZID=Europe/London:20140416T192500
DTEND;TZID=Europe/London:20140416T210000
DTSTAMP:20260420T005128
CREATED:20140309T132101Z
LAST-MODIFIED:20140309T132101Z
UID:9067-1397676300-1397682000@www.gloucesterbid.uk
SUMMARY:An evening with Richard Graham
DESCRIPTION:A not too serious talk on doing business under democracies\, dictatorships and communists. \nThe event is taking place on Wednesday 16th April at the New County Hotel\, Southgate St. commencing at 7-30pm and includes a three course meal and wine as per the attached menu at a price of £25 per person. \nThis event is likely to be very popular and booking early is recommended. \nPlease book using the contact details below by the end of March\, booking direct with the Hotel will not be accepted. \nWhen booking\, please confirm number of tickets required\, menu options\, names and addresses. \nMark Boyce \nPresident \nGloucester Chamber of Commerce \n43 Clarence Street \nGloucester\, GL1 1EA \nTel: 0845 271 2844 \nMobile: 07888 680146 \nEmail: info@GloucesterChamber.org.uk \n 
URL:https://www.gloucesterbid.uk/event/an-evening-with-richard-graham/
LOCATION:New County Hotel\, Southgate St\, Gloucester
CATEGORIES:Events,Talks/Educational
GEO:51.862074;-2.2497424
X-APPLE-STRUCTURED-LOCATION;VALUE=URI;X-ADDRESS=New County Hotel Southgate St Gloucester;X-APPLE-RADIUS=500;X-TITLE=Southgate St:geo:-2.2497424,51.862074
END:VEVENT
END:VCALENDAR