


BEGIN:VCALENDAR
VERSION:2.0
PRODID:-//Gloucester BID - Business Improvement District - ECPv6.15.17.1//NONSGML v1.0//EN
CALSCALE:GREGORIAN
METHOD:PUBLISH
X-ORIGINAL-URL:https://www.gloucesterbid.uk
X-WR-CALDESC:Events for Gloucester BID - Business Improvement District
REFRESH-INTERVAL;VALUE=DURATION:PT1H
X-Robots-Tag:noindex
X-PUBLISHED-TTL:PT1H
BEGIN:VTIMEZONE
TZID:Europe/London
BEGIN:DAYLIGHT
TZOFFSETFROM:+0000
TZOFFSETTO:+0100
TZNAME:BST
DTSTART:20210328T010000
END:DAYLIGHT
BEGIN:STANDARD
TZOFFSETFROM:+0100
TZOFFSETTO:+0000
TZNAME:GMT
DTSTART:20211031T010000
END:STANDARD
BEGIN:DAYLIGHT
TZOFFSETFROM:+0000
TZOFFSETTO:+0100
TZNAME:BST
DTSTART:20220327T010000
END:DAYLIGHT
BEGIN:STANDARD
TZOFFSETFROM:+0100
TZOFFSETTO:+0000
TZNAME:GMT
DTSTART:20221030T010000
END:STANDARD
BEGIN:DAYLIGHT
TZOFFSETFROM:+0000
TZOFFSETTO:+0100
TZNAME:BST
DTSTART:20230326T010000
END:DAYLIGHT
BEGIN:STANDARD
TZOFFSETFROM:+0100
TZOFFSETTO:+0000
TZNAME:GMT
DTSTART:20231029T010000
END:STANDARD
BEGIN:DAYLIGHT
TZOFFSETFROM:+0000
TZOFFSETTO:+0100
TZNAME:BST
DTSTART:20240331T010000
END:DAYLIGHT
BEGIN:STANDARD
TZOFFSETFROM:+0100
TZOFFSETTO:+0000
TZNAME:GMT
DTSTART:20241027T010000
END:STANDARD
END:VTIMEZONE
BEGIN:VEVENT
DTSTART;TZID=Europe/London:20230304T100000
DTEND;TZID=Europe/London:20230304T170000
DTSTAMP:20260423T051345
CREATED:20230227T100311Z
LAST-MODIFIED:20230320T144949Z
UID:282916-1677924000-1677949200@www.gloucesterbid.uk
SUMMARY:Food & Craft Market
DESCRIPTION:Discover the very finest local food\, drink\, art\, design\, vintage and modern craft carefully selected from Gloucester artisans and businesses local to the South West.
URL:https://www.gloucesterbid.uk/event/food-craft-market/2023-03-04/
LOCATION:Orchard Square\, Gloucester Docks\, Gloucester\, United Kingdom
CATEGORIES:Craft,Drink,Events,Food,Market
ATTACH;FMTTYPE=image/jpeg:https://www.gloucesterbid.uk/wp-content/uploads/Food-and-Craft-Marketing-Orchard-Square.jpg
END:VEVENT
BEGIN:VEVENT
DTSTART;TZID=Europe/London:20220507T100000
DTEND;TZID=Europe/London:20220508T170000
DTSTAMP:20260423T051345
CREATED:20220406T192823Z
LAST-MODIFIED:20220406T192823Z
UID:279703-1651917600-1652029200@www.gloucesterbid.uk
SUMMARY:Orchard Street Market
DESCRIPTION:Join us on the first weekend of the month from February to October* for our monthly Orchard Street Food and Craft Market.\nLocated at the stunning Gloucester Quays\, the market offers a great mix of delicious\, locally sourced food and drink\, artisan arts and crafts\, jewellery\, homeware\, plants and seasonal goods\, plus amazing streetfood and bars.\nCome along\, enjoy great food and drink and live music from an eclectic range of busking acts\, soak up the atmosphere of market day and meet our friendly\, dedicated\, and enthusiastic producers\nWe have around 70 fantastic traders\, your regular favourites\, and great new companies for 2022 too! We can’t wait to see you there!\n*There is no market in June 2022 as the Gloucester Tall Ships will be taking place (3rd – 5th June)
URL:https://www.gloucesterbid.uk/event/orchard-street-market/2022-05-07/
LOCATION:Orchard Square\, Gloucester Docks\, Gloucester\, United Kingdom
CATEGORIES:Craft,Drink,Market
ATTACH;FMTTYPE=image/jpeg:https://www.gloucesterbid.uk/wp-content/uploads/OSM.jpg
END:VEVENT
END:VCALENDAR